Workbook

Sheet THANG 1
A1: ĐẢNG BỘ TRƯỜNG CAO ĐẲNG LÝ TỰ TRỌNG THÀNH PHỐ HỒ CHÍ MINH CHI BỘ 2 * | G1: CỘNG HÒA XÃ HỘI CHỦ NGHĨA VIỆT NAM Độc lập - Tự do - Hạnh phúc
A2: BẢNG TỔNG HỢP Các khoản thu nhập dùng để tính đóng đảng phí tháng 01 năm 2019
A3: TT | B3: Họ tên | C3: HS lương | D3: PC CV | E3: PC VK | G3: Phụ cấp TNNG | I3: Lương cơ bản | J3: Tổng lương | K3: Đảng phí 1% | L3: Truy thu
B4: 2 | C4: 3 | D4: 4 | E4: 5 | F4: 6=3*5 | G4: 7 | H4: 8=(3+4+6)*7 | I4: 9 | J4: 10 = 8*9 | K4: 11=10*1%
A5: 1 | B5: Phạm Hữu Lộc | C5: 4.98 | D5: 0.9 | E5: 0.09 | F5: =C5*E5 -> 0.4482 | G5: 0.31 | H5: =(C5+D5+F5)*G5 -> 1.961742 | I5: 1390000 | J5: =(C5+D5+F5+H5)*I5 -> 11523019 | K5: =J5*1% -> 115230.19
A6: 2 | B6: Lâm Viết Dũng | C6: 4.65 | D6: 0.45 | F6: =C6*E6 -> 0 | G6: 0.16 | H6: =(C6+D6+F6)*G6 -> 0.816 | I6: 1390000 | J6: =(C6+D6+F6+H6)*I6 -> 8223240 | K6: =J6*1% -> 82232.4
A7: 3 | B7: Nguyễn Thị Hoa | C7: 4.65 | D7: 0.35 | F7: =C7*E7 -> 0 | I7: 1390000 | J7: =(C7+D7+F7+H7)*I7 -> 6950000 | K7: =J7*1% -> 69500
A8: 4 | B8: Nguyễn Văn Chì | C8: 3 | F8: =C8*E8 -> 0 | I8: 1390000 | J8: =(C8+D8+F8+H8)*I8 -> 4170000 | K8: =J8*1% -> 41700
A9: 5 | B9: Nguyễn Thanh Lâm | C9: 4.98 | D9: 0.45 | E9: 0.11 | F9: =C9*E9 -> 0.5478 | G9: 0.16 | H9: =(C9+D9+F9)*G9 -> 0.956448 | I9: 1390000 | J9: =(C9+D9+F9+H9)*I9 -> 9638604.7 | K9: =J9*1% -> 96386.047
A10: 6 | B10: Nguyễn Văn Chiến | C10: 3.66 | D10: 0.35 | F10: =C10*E10 -> 0 | I10: 1390000 | J10: =(C10+D10+F10+H10)*I10 -> 5573900 | K10: =J10*1% -> 55739
A11: 7 | B11: Nguyễn Văn Tấn | C11: 4.98 | D11: 0.35 | E11: 0.1 | F11: =C11*E11 -> 0.498 | I11: 1390000 | J11: =(C11+D11+F11+H11)*I11 -> 8100920 | K11: =J11*1% -> 81009.2
A12: 8 | B12: Nguyễn Thị Kim Dung | C12: 3.66 | D12: 0.35 | F12: =C12*E12 -> 0 | I12: 1390000 | J12: =(C12+D12+F12+H12)*I12 -> 5573900 | K12: =J12*1% -> 55739
A13: 9 | B13: Nguyễn Chí Nhân | C13: 3.99 | D13: 0.35 | F13: =C13*E13 -> 0 | G13: 0.13 | H13: =(C13+D13+F13)*G13 -> 0.5642 | I13: 1390000 | J13: =(C13+D13+F13+H13)*I13 -> 6816838 | K13: =J13*1% -> 68168.38
A14: 10 | B14: Lê Quang Liêm | C14: 4.65 | D14: 0.45 | F14: =C14*E14 -> 0 | G14: 0.17 | H14: =(C14+D14+F14)*G14 -> 0.867 | I14: 1390000 | J14: =(C14+D14+F14+H14)*I14 -> 8294130 | K14: =J14*1% -> 82941.3
A15: 11 | B15: Võ Thị Xuân Thơ | C15: 3.99 | F15: =C15*E15 -> 0 | I15: 1390000 | J15: =(C15+D15+F15+H15)*I15 -> 5546100 | K15: =J15*1% -> 55461
A16: 12 | B16: Phạm Hữu Tấn | C16: 2.67 | F16: =C16*E16 -> 0 | I16: 1390000 | J16: =(C16+D16+F16+H16)*I16 -> 3711300 | K16: =J16*1% -> 37113
A17: 13 | B17: Nguyễn Ngọc Trang | C17: 5.42 | D17: 0.45 | F17: =C17*E17 -> 0 | G17: 0.26 | H17: =(C17+D17+F17)*G17 -> 1.5262 | I17: 1390000 | J17: =(C17+D17+F17+H17)*I17 -> 10280718 | K17: =J17*1% -> 102807.18 | M17: =L19+L20+L21 -> 37600 | N17: =M17*30% -> 11280
A18: 14 | B18: Trương Thị Hồng | C18: 2.67 | F18: =C18*E18 -> 0 | H18: =(C18+D18+F18)*G18 -> 0 | I18: 1390000 | J18: =(C18+D18+F18+H18)*I18 -> 3711300 | K18: =J18*1% -> 37113 | N18: =M17-N17 -> 26320 | O18: =N18*30% -> 7896
A19: 15 | B19: Nguyễn Yến Nhi | C19: 3 | F19: =C19*E19 -> 0 | H19: =(C19+D19+F19)*G19 -> 0 | I19: 1390000 | J19: =(C19+D19+F19+H19)*I19 -> 4170000 | K19: =J19*1% -> 41700 | L19: 4587
A20: 16 | B20: Lưu Hoàng Hải Yến | C20: 2.67 | F20: =C20*E20 -> 0 | I20: 1390000 | J20: =(C20+D20+F20+H20)*I20 -> 3711300 | K20: =J20*1% -> 37113 | L20: 16263
A21: 17 | B21: Trần Quốc Định | C21: 2.41 | F21: =C21*E21 -> 0 | I21: 1390000 | J21: =(C21+D21+F21+H21)*I21 -> 3349900 | K21: =J21*1% -> 33499 | L21: 16750 | N21: =SUM(K5:K21) -> 1093451.7
A22: 18 | B22: Thái Thị My Sa | C22: 2.67 | F22: =C22*E22 -> 0 | I22: 1390000 | J22: =(C22+D22+F22+H22)*I22 -> 3711300 | K22: =J22*1% -> 37113
A23: TỔNG CỘNG: | J23: =SUM(J5:J22) -> 1.1305647e+08 | K23: =SUM(K5:K22) -> 1130564.7
A25: - Chi bộ trích lại 30% tiền thu đảng phí: | D25: =K23*30% -> 339169.41 | E25: đồng
A26: - Chi bộ nộp lên đảng bộ trường 70%: | D26: =K23*70% -> 791395.29 | E26: đồng
G28: TP.Hồ Chí Minh, ngày tháng năm 2019
A29: NGƯỜI LẬP BÁO CÁO | G29: T/M BỘ
G30: BÍ THƯ
A36: Nguyễn Thị Hoa | G36: Lâm Viết Dũng

Sheet THANG 2
A1: ĐẢNG BỘ TRƯỜNG CAO ĐẲNG LÝ TỰ TRỌNG THÀNH PHỐ HỒ CHÍ MINH CHI BỘ 2 * | G1: CỘNG HÒA XÃ HỘI CHỦ NGHĨA VIỆT NAM Độc lập - Tự do - Hạnh phúc
A2: BẢNG TỔNG HỢP Các khoản thu nhập dùng để tính đóng đảng phí tháng 02 năm 2019
A3: TT | B3: Họ tên | C3: HS lương | D3: PC CV | E3: PC VK | G3: Phụ cấp TNNG | I3: Lương cơ bản | J3: Tổng lương | K3: Đảng phí 1% | L3: Truy thu
B4: 2 | C4: 3 | D4: 4 | E4: 5 | F4: 6=3*5 | G4: 7 | H4: 8=(3+4+6)*7 | I4: 9 | J4: 10 = 8*9 | K4: 11=10*1%
A5: 1 | B5: Phạm Hữu Lộc | C5: 4.98 | D5: 0.9 | E5: 0.09 | F5: =C5*E5 -> 0.4482 | G5: 0.31 | H5: =(C5+D5+F5)*G5 -> 1.961742 | I5: 1390000 | J5: =(C5+D5+F5+H5)*I5 -> 11523019 | K5: =J5*1% -> 115230.19
A6: 2 | B6: Lâm Viết Dũng | C6: 4.65 | D6: 0.45 | F6: =C6*E6 -> 0 | G6: 0.16 | H6: =(C6+D6+F6)*G6 -> 0.816 | I6: 1390000 | J6: =(C6+D6+F6+H6)*I6 -> 8223240 | K6: =J6*1% -> 82232.4
A7: 3 | B7: Nguyễn Thị Hoa | C7: 4.65 | D7: 0.35 | F7: =C7*E7 -> 0 | I7: 1390000 | J7: =(C7+D7+F7+H7)*I7 -> 6950000 | K7: =J7*1% -> 69500
A8: 4 | B8: Nguyễn Văn Chì | C8: 3 | F8: =C8*E8 -> 0 | I8: 1390000 | J8: =(C8+D8+F8+H8)*I8 -> 4170000 | K8: =J8*1% -> 41700
A9: 5 | B9: Nguyễn Thanh Lâm | C9: 4.98 | D9: 0.45 | E9: 0.11 | F9: =C9*E9 -> 0.5478 | G9: 0.16 | H9: =(C9+D9+F9)*G9 -> 0.956448 | I9: 1390000 | J9: =(C9+D9+F9+H9)*I9 -> 9638604.7 | K9: =J9*1% -> 96386.047
A10: 6 | B10: Nguyễn Văn Chiến | C10: 3.66 | D10: 0.35 | F10: =C10*E10 -> 0 | I10: 1390000 | J10: =(C10+D10+F10+H10)*I10 -> 5573900 | K10: =J10*1% -> 55739
A11: 7 | B11: Nguyễn Văn Tấn | C11: 4.98 | D11: 0.35 | E11: 0.1 | F11: =C11*E11 -> 0.498 | I11: 1390000 | J11: =(C11+D11+F11+H11)*I11 -> 8100920 | K11: =J11*1% -> 81009.2
A12: 8 | B12: Nguyễn Thị Kim Dung | C12: 3.66 | D12: 0.35 | F12: =C12*E12 -> 0 | I12: 1390000 | J12: =(C12+D12+F12+H12)*I12 -> 5573900 | K12: =J12*1% -> 55739
A13: 9 | B13: Nguyễn Chí Nhân | C13: 3.99 | D13: 0.35 | F13: =C13*E13 -> 0 | G13: 0.13 | H13: =(C13+D13+F13)*G13 -> 0.5642 | I13: 1390000 | J13: =(C13+D13+F13+H13)*I13 -> 6816838 | K13: =J13*1% -> 68168.38
A14: 10 | B14: Lê Quang Liêm | C14: 4.65 | D14: 0.45 | F14: =C14*E14 -> 0 | G14: 0.17 | H14: =(C14+D14+F14)*G14 -> 0.867 | I14: 1390000 | J14: =(C14+D14+F14+H14)*I14 -> 8294130 | K14: =J14*1% -> 82941.3
A15: 11 | B15: Võ Thị Xuân Thơ | C15: 3.99 | F15: =C15*E15 -> 0 | I15: 1390000 | J15: =(C15+D15+F15+H15)*I15 -> 5546100 | K15: =J15*1% -> 55461
A16: 12 | B16: Phạm Hữu Tấn | C16: 2.67 | F16: =C16*E16 -> 0 | I16: 1390000 | J16: =(C16+D16+F16+H16)*I16 -> 3711300 | K16: =J16*1% -> 37113
A17: 13 | B17: Nguyễn Ngọc Trang | C17: 5.42 | D17: 0.45 | F17: =C17*E17 -> 0 | G17: 0.26 | H17: =(C17+D17+F17)*G17 -> 1.5262 | I17: 1390000 | J17: =(C17+D17+F17+H17)*I17 -> 10280718 | K17: =J17*1% -> 102807.18
A18: 14 | B18: Trương Thị Hồng | C18: 2.67 | F18: =C18*E18 -> 0 | H18: =(C18+D18+F18)*G18 -> 0 | I18: 1390000 | J18: =(C18+D18+F18+H18)*I18 -> 3711300 | K18: =J18*1% -> 37113
A19: 15 | B19: Nguyễn Yến Nhi | C19: 3 | F19: =C19*E19 -> 0 | H19: =(C19+D19+F19)*G19 -> 0 | I19: 1390000 | J19: =(C19+D19+F19+H19)*I19 -> 4170000 | K19: =J19*1%+L19 -> 41700
A20: 16 | B20: Lưu Hoàng Hải Yến | C20: 2.67 | F20: =C20*E20 -> 0 | I20: 1390000 | J20: =(C20+D20+F20+H20)*I20 -> 3711300 | K20: =J20*1% -> 37113
A21: 17 | B21: Trần Quốc Định | C21: 2.41 | F21: =C21*E21 -> 0 | I21: 1390000 | J21: =(C21+D21+F21+H21)*I21 -> 3349900 | K21: =J21*1% -> 33499
A22: 18 | B22: Thái Thị My Sa | C22: 2.67 | I22: 1390000 | J22: =((C22+D22+F22+H22)*I22) -> 3711300 | K22: =J22*0.005 -> 18556.5
A23: TỔNG CỘNG: | J23: =SUM(J5:J22) -> 1.1305647e+08 | K23: =SUM(K5:K22) -> 1112008.2
B24: Ghi chú: Đảng viên Thái Thị My Sa, nghỉ chế độ thai sản từ 1/2/2019 - 1/8/2019 (Đóng 5%)
A25: - Chi bộ trích lại 30% tiền thu đảng phí: | D25: =K23*30% -> 333602.46 | E25: đồng
A26: - Chi bộ nộp lên đảng bộ trường 70%: | D26: =K23*70% -> 778405.74 | E26: đồng
M27: =790861*2+797764 -> 2379486
G28: TP.Hồ Chí Minh, ngày tháng năm 2019 | M28: =M27-2397486 -> -18000
A29: NGƯỜI LẬP BÁO CÁO | G29: T/M CHI BỘ
G30: BÍ THƯ
A36: Nguyễn Thị Hoa | G36: Lâm Viết Dũng

Sheet THANG 3
A1: ĐẢNG BỘ TRƯỜNG CAO ĐẲNG LÝ TỰ TRỌNG THÀNH PHỐ HỒ CHÍ MINH CHI BỘ 2 * | G1: CỘNG HÒA XÃ HỘI CHỦ NGHĨA VIỆT NAM Độc lập - Tự do - Hạnh phúc
A2: BẢNG TỔNG HỢP Các khoản thu nhập dùng để tính đóng đảng phí tháng 3 năm 2019
A3: TT | B3: Họ tên | C3: HS lương | D3: PC CV | E3: PC VK | G3: Phụ cấp TNNG | I3: Lương cơ bản | J3: Tổng lương | K3: Đảng phí 1% | L3: Truy thu
B4: 2 | C4: 3 | D4: 4 | E4: 5 | F4: 6=3*5 | G4: 7 | H4: 8=(3+4+6)*7 | I4: 9 | J4: 10 = 8*9 | K4: 11=10*1%
A5: 1 | B5: Phạm Hữu Lộc | C5: 4.98 | D5: 0.9 | E5: 0.09 | F5: =C5*E5 -> 0.4482 | G5: 0.31 | H5: =(C5+D5+F5)*G5 -> 1.961742 | I5: 1390000 | J5: =(C5+D5+F5+H5)*I5 -> 11523019 | K5: =J5*1% -> 115230.19
A6: 2 | B6: Lâm Viết Dũng | C6: 4.65 | D6: 0.45 | F6: =C6*E6 -> 0 | G6: 0.16 | H6: =(C6+D6+F6)*G6 -> 0.816 | I6: 1390000 | J6: =(C6+D6+F6+H6)*I6 -> 8223240 | K6: =J6*1% -> 82232.4
A7: 3 | B7: Nguyễn Thị Hoa | C7: 4.65 | D7: 0.35 | F7: =C7*E7 -> 0 | I7: 1390000 | J7: =(C7+D7+F7+H7)*I7 -> 6950000 | K7: =J7*1% -> 69500
A8: 4 | B8: Nguyễn Văn Chì | C8: 3 | F8: =C8*E8 -> 0 | I8: 1390000 | J8: =(C8+D8+F8+H8)*I8 -> 4170000 | K8: =J8*1% -> 41700
A9: 5 | B9: Nguyễn Thanh Lâm | C9: 4.98 | D9: 0.45 | E9: 0.11 | F9: =C9*E9 -> 0.5478 | G9: 0.16 | H9: =(C9+D9+F9)*G9 -> 0.956448 | I9: 1390000 | J9: =(C9+D9+F9+H9)*I9 -> 9638604.7 | K9: =J9*1% -> 96386.047
A10: 6 | B10: Nguyễn Văn Chiến | C10: 3.66 | D10: 0.35 | F10: =C10*E10 -> 0 | I10: 1390000 | J10: =(C10+D10+F10+H10)*I10 -> 5573900 | K10: =J10*1% -> 55739
A11: 7 | B11: Nguyễn Văn Tấn | C11: 4.98 | D11: 0.35 | E11: 0.1 | F11: =C11*E11 -> 0.498 | I11: 1390000 | J11: =(C11+D11+F11+H11)*I11 -> 8100920 | K11: =J11*1% -> 81009.2
A12: 8 | B12: Nguyễn Thị Kim Dung | C12: 3.66 | D12: 0.35 | F12: =C12*E12 -> 0 | I12: 1390000 | J12: =(C12+D12+F12+H12)*I12 -> 5573900 | K12: =J12*1% -> 55739
A13: 9 | B13: Nguyễn Chí Nhân | C13: 3.99 | D13: 0.35 | F13: =C13*E13 -> 0 | G13: 0.13 | H13: =(C13+D13+F13)*G13 -> 0.5642 | I13: 1390000 | J13: =(C13+D13+F13+H13)*I13 -> 6816838 | K13: =J13*1% -> 68168.38
A14: 10 | B14: Lê Quang Liêm | C14: 4.65 | D14: 0.45 | F14: =C14*E14 -> 0 | G14: 0.17 | H14: =(C14+D14+F14)*G14 -> 0.867 | I14: 1390000 | J14: =(C14+D14+F14+H14)*I14 -> 8294130 | K14: =J14*1% -> 82941.3
A15: 11 | B15: Võ Thị Xuân Thơ | C15: 3.99 | F15: =C15*E15 -> 0 | I15: 1390000 | J15: =(C15+D15+F15+H15)*I15 -> 5546100 | K15: =J15*1% -> 55461
A16: 12 | B16: Phạm Hữu Tấn | C16: 2.67 | F16: =C16*E16 -> 0 | I16: 1390000 | J16: =(C16+D16+F16+H16)*I16 -> 3711300 | K16: =J16*1% -> 37113
A17: 13 | B17: Nguyễn Ngọc Trang | C17: 5.42 | D17: 0.45 | F17: =C17*E17 -> 0 | G17: 0.26 | H17: =(C17+D17+F17)*G17 -> 1.5262 | I17: 1390000 | J17: =(C17+D17+F17+H17)*I17 -> 10280718 | K17: =J17*1% -> 102807.18
A18: 14 | B18: Trương Thị Hồng | C18: 2.67 | F18: =C18*E18 -> 0 | H18: =(C18+D18+F18)*G18 -> 0 | I18: 1390000 | J18: =(C18+D18+F18+H18)*I18 -> 3711300 | K18: =J18*1% -> 37113
A19: 15 | B19: Nguyễn Yến Nhi | C19: 3 | F19: =C19*E19 -> 0 | H19: =(C19+D19+F19)*G19 -> 0 | I19: 1390000 | J19: =(C19+D19+F19+H19)*I19 -> 4170000 | K19: =J19*1% -> 41700
A20: 16 | B20: Lưu Hoàng Hải Yến | C20: 2.67 | F20: =C20*E20 -> 0 | I20: 1390000 | J20: =(C20+D20+F20+H20)*I20 -> 3711300 | K20: =J20*1%+L20 -> 37113
A21: 17 | B21: Trần Quốc Định | C21: 2.41 | F21: =C21*E21 -> 0 | I21: 1390000 | J21: =(C21+D21+F21+H21)*I21 -> 3349900 | K21: =J21*1% -> 33499
A22: 18 | B22: Thái Thị My Sa | C22: 2.67 | F22: =C22*E22 -> 0 | I22: 1390000 | J22: =(C22+D22+F22+H22)*I22 -> 3711300 | K22: =J22*0.005 -> 18556.5
A23: TỔNG CỘNG: | J23: =SUM(J5:J22) -> 1.1305647e+08 | K23: =SUM(K5:K22) -> 1112008.2
B24: Ghi chú: Đảng viên Thái Thị My Sa, nghỉ chế độ thai sản từ 1/2/2019 - 1/8/2019 (Đóng 5%)
A25: - Chi bộ trích lại 30% tiền thu đảng phí: | D25: =K23*30% -> 333602.46 | E25: đồng
A26: - Chi bộ nộp lên đảng bộ trường 70%: | D26: =K23*70% -> 778405.74 | E26: đồng
G28: TP.Hồ Chí Minh, ngày tháng năm 2019
A29: NGƯỜI LẬP BÁO CÁO | G29: T/M CHI BỘ
G30: BÍ THƯ
A36: Nguyễn Thị Hoa | G36: Lâm Viết Dũng

Sheet QUI I
A1: ĐẢNG BỘ TRƯỜNG CAO ĐẲNG LÝ TỰ TRỌNGTHÀNH PHỐ HỒ CHÍ MINH CHI BỘ 2 * | D1: CỘNG HÒA XÃ HỘI CHỦ NGHĨA VIỆT NAM Độc lập - Tự do - Hạnh phúc
A2: BẢNG TỔNG HỢP Các khoản thu nhập dùng để tính đóng đảng phí quý I năm 2019
A3: TT | B3: Họ tên | C3: Đảng phí tháng 01 | D3: Đảng phí tháng 02 | E3: Đảng phí tháng 3 | F3: Đảng phí Quý I
A4: 1 | B4: Phạm Hữu Lộc | C4: ='THANG 1'!K5 -> 115230.19 | D4: 115230.19 | E4: 115230.19 | F4: =SUM(C4:E4) -> 345690.58
A5: 2 | B5: Lâm Viết Dũng | C5: ='THANG 1'!K6 -> 82232.4 | D5: 82232.4 | E5: 82232.4 | F5: =SUM(C5:E5) -> 246697.2
A6: 3 | B6: Nguyễn Thị Hoa | C6: ='THANG 1'!K7 -> 69500 | D6: 69500 | E6: 69500 | F6: =SUM(C6:E6) -> 208500
A7: 4 | B7: Nguyễn Văn Chì | C7: ='THANG 1'!K8 -> 41700 | D7: 41700 | E7: 41700 | F7: =SUM(C7:E7) -> 125100
A8: 5 | B8: Nguyễn Thanh Lâm | C8: ='THANG 1'!K9 -> 96386.047 | D8: =C8 -> 96386.047 | E8: =D8 -> 96386.047 | F8: =SUM(C8:E8) -> 289158.14
A9: 6 | B9: Nguyễn Văn Chiến | C9: ='THANG 1'!K10 -> 55739 | D9: 55739 | E9: 55739 | F9: =SUM(C9:E9) -> 167217
A10: 7 | B10: Nguyễn Văn Tấn | C10: ='THANG 1'!K11 -> 81009.2 | D10: =C10 -> 81009.2 | E10: =D10 -> 81009.2 | F10: =SUM(C10:E10) -> 243027.6
A11: 8 | B11: Nguyễn Thị Kim Dung | C11: ='THANG 1'!K12 -> 55739 | D11: 55739 | E11: 55739 | F11: =SUM(C11:E11) -> 167217
A12: 9 | B12: Nguyễn Chí Nhân | C12: ='THANG 1'!K13 -> 68168.38 | D12: 68168.38 | E12: 68168.38 | F12: =SUM(C12:E12) -> 204505.14
A13: 10 | B13: Lê Quang Liêm | C13: ='THANG 1'!K14 -> 82941.3 | D13: 82941.3 | E13: 82941.3 | F13: =SUM(C13:E13) -> 248823.9
A14: 11 | B14: Võ Thị Xuân Thơ | C14: ='THANG 1'!K15 -> 55461 | D14: 55461 | E14: 55461 | F14: =SUM(C14:E14) -> 166383
A15: 12 | B15: Phạm Hữu Tấn | C15: ='THANG 1'!K16 -> 37113 | D15: 37113 | E15: 37113 | F15: =SUM(C15:E15) -> 111339
A16: 13 | B16: Nguyễn Ngọc Trang | C16: ='THANG 1'!K17 -> 102807.18 | D16: =C16 -> 102807.18 | E16: =D16 -> 102807.18 | F16: =SUM(C16:E16) -> 308421.54
A17: 14 | B17: Trương Thị Hồng | C17: ='THANG 1'!K18 -> 37113 | D17: 37113 | E17: 37113 | F17: =SUM(C17:E17) -> 111339
A18: 15 | B18: Nguyễn Yến Nhi | C18: ='THANG 1'!K19 -> 41700 | D18: 41700 | E18: 41700 | F18: =SUM(C18:E18) -> 125100
A19: 16 | B19: Lưu Hoàng Hải Yến | C19: ='THANG 1'!K20 -> 37113 | D19: =C19 -> 37113 | E19: =D19 -> 37113 | F19: =SUM(C19:E19) -> 111339
A20: 17 | B20: Trần Quốc Định | C20: ='THANG 1'!K21 -> 33499 | D20: 33499 | E20: =D20 -> 33499 | F20: =SUM(C20:E20) -> 100497
A21: 18 | B21: Thái Thị My Sa | C21: ='THANG 1'!K22 -> 37113 | D21: ='THANG 2'!K22 -> 18556.5 | E21: ='THANG 3'!K22 -> 18556.5 | F21: =SUM(C21:E21) -> 74226
A22: TỔNG CỘNG: | C22: =SUM(C4:C21) -> 1130564.7 | D22: =SUM(D4:D21) -> 1112008.2 | E22: =SUM(E4:E21) -> 1112008.2 | F22: =SUM(F4:F21) -> 3354581.1
A24: - Chi bộ trích lại 30% tiền thu đảng phí: | C24: =F22*30% -> 1006374.3 | D24: đồng
A25: - Chi bộ nộp lên đảng bộ trường 70%: | C25: =F22*70% -> 2348206.8 | D25: đồng
D27: TP.Hồ Chí Minh, ngày tháng năm 2019
A28: NGƯỜI LẬP BÁO CÁO | D28: T/M CHI BỘ
D29: BÍ THƯ
A35: Nguyễn Thị Hoa | D35: Lâm Viết Dũng

Sheet THANG 4
A1: ĐẢNG BỘ TRƯỜNG CAO ĐẲNG LÝ TỰ TRỌNG THÀNH PHỐ HỒ CHÍ MINH CHI BỘ 2 * | G1: CỘNG HÒA XÃ HỘI CHỦ NGHĨA VIỆT NAM Độc lập - Tự do - Hạnh phúc
A2: BẢNG TỔNG HỢP Các khoản thu nhập dùng để tính đóng đảng phí tháng 4/2019 và truy thu Q2,Q3,Q4/2018 (0,6)
A3: TT | B3: Họ tên | C3: HS lương | D3: PC CV | E3: PC VK | G3: Phụ cấp TNNG | I3: Lương cơ bản | J3: Tổng lương | K3: Đảng phí 1% | L3: Truy thu | Q3: Truy thu (0,6) | R3: Truy thu HSCV,HS Lương | S3: Số tiền nộp
A4: 1 | B4: 2 | C4: 3 | D4: 4 | E4: 5 | F4: 6=3*5 | G4: 7 | H4: 8=(3+4+6)*7 | I4: 9 | J4: 10 = 8*9 | K4: 11=10*1% | Q4: 12 | R4: 13 | S4: 14=11+12+13
A5: 1 | B5: Phạm Hữu Lộc | C5: 4.98 | D5: 0.9 | E5: 0.09 | F5: =C5*E5 -> 0.4482 | G5: 0.32 | H5: =(C5+D5+F5)*G5 -> 2.025024 | I5: 1390000 | J5: =(C5+D5+F5+H5)*I5 -> 11610981 | K5: =J5*1% -> 116109.81 | Q5: 463162 | S5: =K5+Q5+R5 -> 579271.81
A6: 2 | B6: Lâm Viết Dũng | C6: 4.65 | D6: 0.45 | F6: =C6*E6 -> 0 | G6: 0.16 | H6: =(C6+D6+F6)*G6 -> 0.816 | I6: 1390000 | J6: =(C6+D6+F6+H6)*I6 -> 8223240 | K6: =J6*1% -> 82232.4 | Q6: 374544 | S6: =K6+Q6+R6 -> 456776.4
A7: 3 | B7: Nguyễn Thị Hoa | C7: 4.65 | D7: 0.35 | F7: =C7*E7 -> 0 | I7: 1390000 | J7: =(C7+D7+F7+H7)*I7 -> 6950000 | K7: =J7*1% -> 69500 | Q7: 367200 | S7: =K7+Q7+R7 -> 436700
A8: 4 | B8: Nguyễn Văn Chì | C8: 3 | F8: =C8*E8 -> 0 | I8: 1390000 | J8: =(C8+D8+F8+H8)*I8 -> 4170000 | K8: =J8*1% -> 41700 | Q8: 220320 | S8: =K8+Q8+R8 -> 262020
A9: 5 | B9: Nguyễn Thanh Lâm | C9: 4.98 | D9: 0.45 | E9: 0.11 | F9: =C9*E9 -> 0.5478 | G9: 0.16 | H9: =(C9+D9+F9)*G9 -> 0.956448 | I9: 1390000 | J9: =(C9+D9+F9+H9)*I9 -> 9638604.7 | K9: =J9*1% -> 96386.047 | Q9: 436598 | S9: =K9+Q9+R9 -> 532984.05
A10: 6 | B10: Nguyễn Văn Chiến | C10: 3.66 | D10: 0.35 | F10: =C10*E10 -> 0 | I10: 1390000 | J10: =(C10+D10+F10+H10)*I10 -> 5573900 | K10: =J10*1% -> 55739 | Q10: 294494 | S10: =K10+Q10+R10 -> 350233
A11: 7 | B11: Nguyễn Văn Tấn | C11: 4.98 | D11: 0.35 | E11: 0.1 | F11: =C11*E11 -> 0.498 | I11: 1390000 | J11: =(C11+D11+F11+H11)*I11 -> 8100920 | K11: =J11*1% -> 81009.2 | Q11: 425597 | S11: =K11+Q11+R11 -> 506606.2
A12: 8 | B12: Nguyễn Thị Kim Dung | C12: 3.66 | D12: 0.35 | F12: =C12*E12 -> 0 | I12: 1390000 | J12: =(C12+D12+F12+H12)*I12 -> 5573900 | K12: =J12*1% -> 55739 | Q12: 294494 | S12: =K12+Q12+R12 -> 350233
A13: 9 | B13: Nguyễn Chí Nhân | C13: 3.99 | D13: 0.45 | F13: =C13*E13 -> 0 | G13: 0.13 | H13: =(C13+D13+F13)*G13 -> 0.5772 | I13: 1390000 | J13: =(C13+D13+F13+H13)*I13 -> 6973908 | K13: =J13*1% -> 69739.08 | Q13: 322066 | R13: 9730 | S13: =K13+Q13+R13 -> 401535.08
A14: 10 | B14: Lê Quang Liêm | C14: 4.65 | D14: 0.45 | F14: =C14*E14 -> 0 | G14: 0.17 | H14: =(C14+D14+F14)*G14 -> 0.867 | I14: 1390000 | J14: =(C14+D14+F14+H14)*I14 -> 8294130 | K14: =J14*1% -> 82941.3 | Q14: 374544 | S14: =K14+Q14+R14 -> 457485.3
A15: 11 | B15: Võ Thị Xuân Thơ | C15: 3.99 | F15: =C15*E15 -> 0 | I15: 1390000 | J15: =(C15+D15+F15+H15)*I15 -> 5546100 | K15: =J15*1% -> 55461 | Q15: 293026 | S15: =K15+Q15+R15 -> 348487
A16: 12 | B16: Phạm Hữu Tấn | C16: 2.67 | F16: =C16*E16 -> 0 | I16: 1390000 | J16: =(C16+D16+F16+H16)*I16 -> 3711300 | K16: =J16*1% -> 37113 | S16: =K16+Q16+R16 -> 37113
A17: 13 | B17: Nguyễn Ngọc Trang | C17: 5.42 | D17: 0.45 | F17: =C17*E17 -> 0 | G17: 0.26 | H17: =(C17+D17+F17)*G17 -> 1.5262 | I17: 1390000 | J17: =(C17+D17+F17+H17)*I17 -> 10280718 | K17: =J17*1% -> 102807.18 | Q17: 431093 | S17: =K17+Q17+R17 -> 533900.18
A18: 14 | B18: Trương Thị Hồng | C18: 2.67 | F18: =C18*E18 -> 0 | H18: =(C18+D18+F18)*G18 -> 0 | I18: 1390000 | J18: =(C18+D18+F18+H18)*I18 -> 3711300 | K18: =J18*1% -> 37113 | S18: =K18+Q18+R18 -> 37113
A19: 15 | B19: Nguyễn Yến Nhi | C19: 3 | F19: =C19*E19 -> 0 | H19: =(C19+D19+F19)*G19 -> 0 | I19: 1390000 | J19: =(C19+D19+F19+H19)*I19 -> 4170000 | K19: =J19*1% -> 41700 | S19: =K19+Q19+R19 -> 41700
A20: 16 | B20: Lưu Hoàng Hải Yến | C20: 2.67 | F20: =C20*E20 -> 0 | I20: 1390000 | J20: =(C20+D20+F20+H20)*I20 -> 3711300 | K20: =J20*1%+L20 -> 37113 | Q20: 133607 | R20: 18384 | S20: =K20+Q20+R20 -> 189104
A21: 17 | B21: Trần Quốc Định | C21: 2.41 | F21: =C21*E21 -> 0 | I21: 1390000 | J21: =(C21+D21+F21+H21)*I21 -> 3349900 | K21: =J21*1% -> 33499 | S21: =K21+Q21+R21 -> 33499
A22: 18 | B22: Thái Thị My Sa | C22: 2.67 | F22: =C22*E22 -> 0 | I22: 1390000 | J22: =(C22+D22+F22+H22)*I22 -> 3711300 | K22: =J22*0.005 -> 18556.5 | S22: =K22+Q22+R22 -> 18556.5
A23: TỔNG CỘNG: | J23: =SUM(J5:J22) -> 1.133015e+08 | K23: =SUM(K5:K22) -> 1114458.5 | L23: =SUM(L5:L22) -> 0 | M23: =SUM(M5:M22) -> 0 | N23: =SUM(N5:N22) -> 0 | O23: =SUM(O5:O22) -> 0 | P23: =SUM(P5:P22) -> 0 | Q23: =SUM(Q5:Q22) -> 4430745 | ... S23: =SUM(S5:S22) -> 5573317.5
B24: Ghi chú: Đảng viên Thái Thị My Sa, nghỉ chế độ thai sản từ 1/2/2019 - 1/8/2019 (Đóng 5%)
A25: - Chi bộ trích lại 30% tiền thu đảng phí: | D25: =S23*30% -> 1671995.3
A26: - Chi bộ nộp lên đảng bộ trường 70%: | D26: =S23*70% -> 3901322.3
A28: NGƯỜI LẬP BÁO CÁO | K28: T/M CHI BỘ
K29: BÍ THƯ
A35: Nguyễn Thị Hoa | K35: Lâm Viết Dũng

Sheet THANG 5
A1: ĐẢNG BỘ TRƯỜNG CAO ĐẲNG LÝ TỰ TRỌNG THÀNH PHỐ HỒ CHÍ MINH CHI BỘ 2 * | G1: CỘNG HÒA XÃ HỘI CHỦ NGHĨA VIỆT NAM Độc lập - Tự do - Hạnh phúc
A2: BẢNG TỔNG HỢP Các khoản thu nhập dùng để tính đóng đảng phí tháng 5/2019
A3: TT | B3: Họ tên | C3: HS lương | D3: PC CV | E3: PC VK | G3: Phụ cấp TNNG | I3: Lương cơ bản | J3: Tổng lương | K3: Đảng phí 1% | L3: Truy thu
A4: 1 | B4: 2 | C4: 3 | D4: 4 | E4: 5 | F4: 6=3*5 | G4: 7 | H4: 8=(3+4+6)*7 | I4: 9 | J4: 10 = 8*9 | K4: 11=10*1%
A5: 1 | B5: Phạm Hữu Lộc | C5: 4.98 | D5: 0.9 | E5: 0.09 | F5: =C5*E5 -> 0.4482 | G5: 0.32 | H5: =(C5+D5+F5)*G5 -> 2.025024 | I5: 1390000 | J5: =(C5+D5+F5+H5)*I5 -> 11610981 | K5: =J5*1% -> 116109.81
A6: 2 | B6: Lâm Viết Dũng | C6: 4.65 | D6: 0.45 | F6: =C6*E6 -> 0 | G6: 0.16 | H6: =(C6+D6+F6)*G6 -> 0.816 | I6: 1390000 | J6: =(C6+D6+F6+H6)*I6 -> 8223240 | K6: =J6*1% -> 82232.4
A7: 3 | B7: Nguyễn Thị Hoa | C7: 4.65 | D7: 0.35 | F7: =C7*E7 -> 0 | I7: 1390000 | J7: =(C7+D7+F7+H7)*I7 -> 6950000 | K7: =J7*1% -> 69500
A8: 4 | B8: Nguyễn Văn Chì | C8: 3 | F8: =C8*E8 -> 0 | I8: 1390000 | J8: =(C8+D8+F8+H8)*I8 -> 4170000 | K8: =J8*1% -> 41700
A9: 5 | B9: Nguyễn Thanh Lâm | C9: 4.98 | D9: 0.45 | E9: 0.11 | F9: =C9*E9 -> 0.5478 | G9: 0.16 | H9: =(C9+D9+F9)*G9 -> 0.956448 | I9: 1390000 | J9: =(C9+D9+F9+H9)*I9 -> 9638604.7 | K9: =J9*1% -> 96386.047
A10: 6 | B10: Nguyễn Văn Chiến | C10: 3.66 | D10: 0.35 | F10: =C10*E10 -> 0 | I10: 1390000 | J10: =(C10+D10+F10+H10)*I10 -> 5573900 | K10: =J10*1% -> 55739
A11: 7 | B11: Nguyễn Văn Tấn | C11: 4.98 | D11: 0.35 | E11: 0.1 | F11: =C11*E11 -> 0.498 | I11: 1390000 | J11: =(C11+D11+F11+H11)*I11 -> 8100920 | K11: =J11*1% -> 81009.2
A12: 8 | B12: Nguyễn Thị Kim Dung | C12: 3.66 | D12: 0.35 | F12: =C12*E12 -> 0 | I12: 1390000 | J12: =(C12+D12+F12+H12)*I12 -> 5573900 | K12: =J12*1% -> 55739
A13: 9 | B13: Nguyễn Chí Nhân | C13: 3.99 | D13: 0.45 | F13: =C13*E13 -> 0 | G13: 0.13 | H13: =(C13+D13+F13)*G13 -> 0.5772 | I13: 1390000 | J13: =(C13+D13+F13+H13)*I13 -> 6973908 | K13: =J13*1% -> 69739.08
A14: 10 | B14: Lê Quang Liêm | C14: 4.65 | D14: 0.45 | F14: =C14*E14 -> 0 | G14: 0.17 | H14: =(C14+D14+F14)*G14 -> 0.867 | I14: 1390000 | J14: =(C14+D14+F14+H14)*I14 -> 8294130 | K14: =J14*1% -> 82941.3
A15: 11 | B15: Võ Thị Xuân Thơ | C15: 3.99 | F15: =C15*E15 -> 0 | I15: 1390000 | J15: =(C15+D15+F15+H15)*I15 -> 5546100 | K15: =J15*1% -> 55461
A16: 12 | B16: Phạm Hữu Tấn | C16: 2.67 | F16: =C16*E16 -> 0 | I16: 1390000 | J16: =(C16+D16+F16+H16)*I16 -> 3711300 | K16: =J16*1% -> 37113
A17: 13 | B17: Nguyễn Ngọc Trang | C17: 5.42 | D17: 0.45 | F17: =C17*E17 -> 0 | G17: 0.26 | H17: =(C17+D17+F17)*G17 -> 1.5262 | I17: 1390000 | J17: =(C17+D17+F17+H17)*I17 -> 10280718 | K17: =J17*1% -> 102807.18
A18: 14 | B18: Trương Thị Hồng | C18: 2.67 | F18: =C18*E18 -> 0 | H18: =(C18+D18+F18)*G18 -> 0 | I18: 1390000 | J18: =(C18+D18+F18+H18)*I18 -> 3711300 | K18: =J18*1% -> 37113
A19: 15 | B19: Nguyễn Yến Nhi | C19: 3 | F19: =C19*E19 -> 0 | H19: =(C19+D19+F19)*G19 -> 0 | I19: 1390000 | J19: =(C19+D19+F19+H19)*I19 -> 4170000 | K19: =J19*1% -> 41700
A20: 16 | B20: Lưu Hoàng Hải Yến | C20: 2.67 | F20: =C20*E20 -> 0 | I20: 1390000 | J20: =(C20+D20+F20+H20)*I20 -> 3711300 | K20: =J20*1%+L20 -> 37113
A21: 17 | B21: Trần Quốc Định | C21: 2.41 | F21: =C21*E21 -> 0 | I21: 1390000 | J21: =(C21+D21+F21+H21)*I21 -> 3349900 | K21: =J21*1% -> 33499
A22: 18 | B22: Thái Thị My Sa | C22: 2.67 | F22: =C22*E22 -> 0 | I22: 1390000 | J22: =(C22+D22+F22+H22)*I22 -> 3711300 | K22: =J22*0.005 -> 18556.5
A23: TỔNG CỘNG: | J23: =SUM(J5:J22) -> 1.133015e+08 | K23: =SUM(K5:K22) -> 1114458.5 | L23: =SUM(L5:L22) -> 0 | M23: =SUM(M5:M22) -> 0 | N23: =SUM(N5:N22) -> 0 | O23: =SUM(O5:O22) -> 0
B24: Ghi chú: Đảng viên Thái Thị My Sa, nghỉ chế độ thai sản từ 1/2/2019 - 1/8/2019 (Đóng 5%)
A25: - Chi bộ trích lại 30% tiền thu đảng phí: | D25: =K23*30% -> 334337.56
A26: - Chi bộ nộp lên đảng bộ trường 70%: | D26: =K23*70% -> 780120.96
A28: NGƯỜI LẬP BÁO CÁO | H28: T/M CHI BỘ
H29: BÍ THƯ
A35: Nguyễn Thị Hoa | H35: Lâm Viết Dũng

Sheet THANG 6
A1: ĐẢNG BỘ TRƯỜNG CAO ĐẲNG LÝ TỰ TRỌNG THÀNH PHỐ HỒ CHÍ MINH CHI BỘ 2 * | G1: CỘNG HÒA XÃ HỘI CHỦ NGHĨA VIỆT NAM Độc lập - Tự do - Hạnh phúc | R1: 1390000
A2: BẢNG TỔNG HỢP Các khoản thu nhập dùng để tính đóng đảng phí tháng 6/2019 và truy thu Q1/2019 (1,2)
A3: TT | B3: Họ tên | C3: HS lương | D3: PC CV | E3: PC VK | G3: Phụ cấp TNNG | I3: Tổng lương | J3: Truy thu 1,2 | K3: Tổng số tiền tính đảng phí | L3: Đảng phí 1% | M3: Truy thu | R3: Số tiền nộp
A4: 1 | B4: 2 | C4: 3 | D4: 4 | E4: 5 | F4: 6=3*5 | G4: 7 | H4: 8=(3+4+6)*7 | I4: 9 | J4: 10 | K4: 11 = 9+10 | L4: 12=11*1% | R4: 13
A5: 1 | B5: Phạm Hữu Lộc | C5: 4.98 | D5: 0.9 | E5: 0.09 | F5: =C5*E5 -> 0.4482 | G5: 0.32 | H5: =(C5+D5+F5)*G5 -> 2.025024 | I5: =(C5+D5+F5+H5)*$R$1 -> 11610981 | J5: 31666313 | K5: =I5+J5 -> 43277294 | L5: =K5*1% -> 432772.94 | R5: =L5 -> 432772.94
A6: 2 | B6: Lâm Viết Dũng | C6: 4.65 | D6: 0.45 | F6: =C6*E6 -> 0 | G6: 0.16 | H6: =(C6+D6+F6)*G6 -> 0.816 | I6: =(C6+D6+F6+H6)*$R$1 -> 8223240 | J6: 25520400 | K6: =I6+J6 -> 33743640 | L6: =K6*1% -> 337436.4 | R6: =L6 -> 337436.4
A7: 3 | B7: Nguyễn Thị Hoa | C7: 4.65 | D7: 0.35 | F7: =C7*E7 -> 0 | I7: =(C7+D7+F7+H7)*$R$1 -> 6950000 | J7: 25020000 | K7: =I7+J7 -> 31970000 | L7: =K7*1% -> 319700 | R7: =L7 -> 319700
A8: 4 | B8: Nguyễn Văn Chì | C8: 3 | F8: =C8*E8 -> 0 | I8: =(C8+D8+F8+H8)*$R$1 -> 4170000 | J8: 12009600 | K8: =I8+J8 -> 16179600 | L8: =K8*1% -> 161796 | R8: =L8 -> 161796
A9: 5 | B9: Nguyễn Thanh Lâm | C9: 4.98 | D9: 0.45 | E9: 0.11 | F9: =C9*E9 -> 0.5478 | G9: 0.16 | H9: =(C9+D9+F9)*G9 -> 0.956448 | I9: =(C9+D9+F9+H9)*$R$1 -> 9638604.7 | J9: 29912911 | K9: =I9+J9 -> 39551516 | L9: =K9*1% -> 395515.16 | R9: =L9 -> 395515.16
A10: 6 | B10: Nguyễn Văn Chiến | C10: 3.66 | D10: 0.35 | F10: =C10*E10 -> 0 | I10: =(C10+D10+F10+H10)*$R$1 -> 5573900 | J10: 20066040 | K10: =I10+J10 -> 25639940 | L10: =K10*1% -> 256399.4 | R10: =L10 -> 256399.4
A11: 7 | B11: Nguyễn Văn Tấn | C11: 4.98 | D11: 0.35 | E11: 0.1 | F11: =C11*E11 -> 0.498 | I11: =(C11+D11+F11+H11)*$R$1 -> 8100920 | J11: 29163312 | K11: =I11+J11 -> 37264232 | L11: =K11*1% -> 372642.32 | R11: =L11 -> 372642.32
A12: 8 | B12: Nguyễn Thị Kim Dung | C12: 3.66 | D12: 0.35 | F12: =C12*E12 -> 0 | I12: =(C12+D12+F12+H12)*$R$1 -> 5573900 | J12: 20066040 | K12: =I12+J12 -> 25639940 | L12: =K12*1% -> 256399.4 | R12: =L12 -> 256399.4
A13: 9 | B13: Nguyễn Chí Nhân | C13: 3.99 | D13: 0.45 | F13: =C13*E13 -> 0 | G13: 0.13 | H13: =(C13+D13+F13)*G13 -> 0.5772 | I13: =(C13+D13+F13+H13)*$R$1 -> 6973908 | J13: 22217760 | K13: =I13+J13 -> 29191668 | L13: =K13*1% -> 291916.68 | R13: =L13 -> 291916.68
A14: 10 | B14: Lê Quang Liêm | C14: 4.65 | D14: 0.45 | F14: =C14*E14 -> 0 | G14: 0.17 | H14: =(C14+D14+F14)*G14 -> 0.867 | I14: =(C14+D14+F14+H14)*$R$1 -> 8294130 | J14: 25520400 | K14: =I14+J14 -> 33814530 | L14: =K14*1% -> 338145.3 | R14: =L14 -> 338145.3
A15: 11 | B15: Võ Thị Xuân Thơ | C15: 3.99 | F15: =C15*E15 -> 0 | I15: =(C15+D15+F15+H15)*$R$1 -> 5546100 | J15: 19965960 | K15: =I15+J15 -> 25512060 | L15: =K15*1% -> 255120.6 | R15: =L15 -> 255120.6
A16: 12 | B16: Phạm Hữu Tấn | C16: 2.67 | F16: =C16*E16 -> 0 | I16: =(C16+D16+F16+H16)*$R$1 -> 3711300 | K16: =I16+J16 -> 3711300 | L16: =K16*1% -> 37113 | R16: =L16 -> 37113
A17: 13 | B17: Nguyễn Ngọc Trang | C17: 5.42 | D17: 0.45 | F17: =C17*E17 -> 0 | G17: 0.26 | H17: =(C17+D17+F17)*G17 -> 1.5262 | I17: =(C17+D17+F17+H17)*$R$1 -> 10280718 | J17: 29373480 | K17: =I17+J17 -> 39654198 | L17: =K17*1% -> 396541.98 | R17: =L17 -> 396541.98
A18: 14 | B18: Trương Thị Hồng | C18: 2.67 | F18: =C18*E18 -> 0 | H18: =(C18+D18+F18)*G18 -> 0 | I18: =(C18+D18+F18+H18)*$R$1 -> 3711300 | K18: =I18+J18 -> 3711300 | L18: =K18*1% -> 37113 | R18: =L18 -> 37113
A19: 15 | B19: Nguyễn Yến Nhi | C19: 3 | F19: =C19*E19 -> 0 | H19: =(C19+D19+F19)*G19 -> 0 | I19: =(C19+D19+F19+H19)*$R$1 -> 4170000 | K19: =I19+J19 -> 4170000 | L19: =K19*1% -> 41700 | R19: =L19 -> 41700
A20: 16 | B20: Lưu Hoàng Hải Yến | C20: 2.67 | F20: =C20*E20 -> 0 | I20: =(C20+D20+F20+H20)*$R$1 -> 3711300 | J20: 13360680 | K20: =I20+J20 -> 17071980 | L20: =K20*1% -> 170719.8 | R20: =L20 -> 170719.8
A21: 17 | B21: Trần Quốc Định | C21: 2.41 | F21: =C21*E21 -> 0 | I21: =(C21+D21+F21+H21)*$R$1 -> 3349900 | K21: =I21+J21 -> 3349900 | L21: =K21*1% -> 33499 | R21: =L21 -> 33499
A22: 18 | B22: Lương Xuân Thịnh | C22: 1.989 | F22: =C22*E22 -> 0 | I22: =(C22+D22+F22+H22)*$R$1 -> 2764710 | K22: =I22+J22 -> 2764710 | L22: =K22*1% -> 27647.1 | R22: =L22 -> 27647.1
A23: 19 | B23: Nguyễn Thành Nam | C23: 3.99 | D23: 0.35 | F23: =C23*E23 -> 0 | H23: 0.6076 | I23: =(C23+D23+F23+H23)*$R$1 -> 6877164 | J23: 7239120 | K23: =I23+J23 -> 14116284 | L23: =K23*1% -> 141162.84 | R23: =L23 -> 141162.84
A24: 20 | B24: Thái Thị My Sa | C24: 2.67 | F24: =C24*E24 -> 0 | I24: =(C24+D24+F24+H24)*$R$1 -> 3711300 | K24: =I24+J24 -> 3711300 | L24: =K24*0.005 -> 18556.5 | R24: =L24+L25 -> 89813.46
J25: 7125696 | K25: =J25 -> 7125696 | L25: =K25*1% -> 71256.96
A26: TỔNG CỘNG: | K26: =SUM(K5:K25) -> 4.4117109e+08 | L26: =SUM(L5:L25) -> 4393154.4 | M26: =SUM(M5:M24) -> 0 | N26: =SUM(N5:N24) -> 0 | O26: =SUM(O5:O24) -> 0 | P26: =SUM(P5:P24) -> 0 | Q26: =SUM(Q5:Q24) -> 0 | R26: =SUM(R5:R25) -> 4393154.4
B27: Ghi chú: Đảng viên Thái Thị My Sa, nghỉ chế độ thai sản từ 1/2/2019 - 1/8/2019 (Đóng 5%)
A28: - Chi bộ trích lại 30% tiền thu đảng phí: | D28: =R26*30% -> 1317946.3
A29: - Chi bộ nộp lên đảng bộ trường 70%: | D29: =R26*70% -> 3075208.1
A31: NGƯỜI LẬP BÁO CÁO | L31: T/M CHI BỘ
K32: BÍ THƯ
A38: Nguyễn Thị Hoa | K38: Lâm Viết Dũng

Sheet THANG 7
A1: ĐẢNG BỘ TRƯỜNG CAO ĐẲNG LÝ TỰ TRỌNG THÀNH PHỐ HỒ CHÍ MINH CHI BỘ 2 * | G1: CỘNG HÒA XÃ HỘI CHỦ NGHĨA VIỆT NAM Độc lập - Tự do - Hạnh phúc | R1: 1390000
A2: BẢNG TỔNG HỢP Các khoản thu nhập dùng để tính đóng đảng phí tháng 7/2019 và truy thu Thi đua từ T1-T6/2019
A3: TT | B3: Họ tên | C3: HS lương | D3: PC CV | E3: PC VK | G3: Phụ cấp TNNG | I3: Tổng lương | J3: Truy thu thi đua (T1-T6) | K3: Tổng số tiền tính đảng phí | L3: Đảng phí 1% | M3: Truy thu | R3: Số tiền nộp
A4: 1 | B4: 2 | C4: 3 | D4: 4 | E4: 5 | F4: 6=3*5 | G4: 7 | H4: 8=(3+4+6)*7 | I4: 9 | J4: 10 | K4: 11=9+10 | L4: 12=11*1% | R4: 13
A5: 1 | B5: Phạm Hữu Lộc | C5: 4.98 | D5: 0.9 | E5: 0.09 | F5: =C5*E5 -> 0.4482 | G5: 0.32 | H5: =(C5+D5+F5)*G5 -> 2.025024 | I5: =(C5+D5+F5+H5)*$R$1 -> 11610981 | J5: =((C5+D5)*$R$1)*6 -> 49039200 | K5: =J5+I5 -> 60650181 | L5: =K5*1% -> 606501.81 | R5: =L5 -> 606501.81
A6: 2 | B6: Lâm Viết Dũng | C6: 4.65 | D6: 0.45 | F6: =C6*E6 -> 0 | G6: 0.16 | H6: =(C6+D6+F6)*G6 -> 0.816 | I6: =(C6+D6+F6+H6)*$R$1 -> 8223240 | J6: =((C6+D6)*$R$1)*6 -> 42534000 | K6: =J6+I6 -> 50757240 | L6: =K6*1% -> 507572.4 | R6: =L6 -> 507572.4
A7: 3 | B7: Nguyễn Thị Hoa | C7: 4.65 | D7: 0.35 | F7: =C7*E7 -> 0 | I7: =(C7+D7+F7+H7)*$R$1 -> 6950000 | J7: =((C7+D7)*$R$1)*6 -> 41700000 | K7: =J7+I7 -> 48650000 | L7: =K7*1% -> 486500 | R7: =L7 -> 486500
A8: 4 | B8: Nguyễn Văn Chì | C8: 3 | F8: =C8*E8 -> 0 | I8: =(C8+D8+F8+H8)*$R$1 -> 4170000 | J8: =((C8+D8)*$R$1)*6 -> 25020000 | K8: =J8+I8 -> 29190000 | L8: =K8*1% -> 291900 | R8: =L8 -> 291900
A9: 5 | B9: Nguyễn Thanh Lâm | C9: 4.98 | D9: 0.45 | E9: 0.11 | F9: =C9*E9 -> 0.5478 | G9: 0.16 | H9: =(C9+D9+F9)*G9 -> 0.956448 | I9: =(C9+D9+F9+H9)*$R$1 -> 9638604.7 | J9: =((C9+D9)*$R$1)*6 -> 45286200 | K9: =J9+I9 -> 54924805 | L9: =K9*1% -> 549248.05 | R9: =L9 -> 549248.05
A10: 6 | B10: Nguyễn Văn Chiến | C10: 3.66 | D10: 0.35 | F10: =C10*E10 -> 0 | I10: =(C10+D10+F10+H10)*$R$1 -> 5573900 | J10: =((C10+D10)*$R$1)*6 -> 33443400 | K10: =J10+I10 -> 39017300 | L10: =K10*1% -> 390173 | R10: =L10 -> 390173
A11: 7 | B11: Nguyễn Văn Tấn | C11: 4.98 | D11: 0.35 | E11: 0.1 | F11: =C11*E11 -> 0.498 | I11: =(C11+D11+F11+H11)*$R$1 -> 8100920 | J11: =((C11+D11)*$R$1)*6 -> 44452200 | K11: =J11+I11 -> 52553120 | L11: =K11*1% -> 525531.2 | R11: =L11 -> 525531.2
A12: 8 | B12: Nguyễn Thị Kim Dung | C12: 3.66 | D12: 0.35 | F12: =C12*E12 -> 0 | I12: =(C12+D12+F12+H12)*$R$1 -> 5573900 | J12: =((C12+D12)*$R$1)*6 -> 33443400 | K12: =J12+I12 -> 39017300 | L12: =K12*1% -> 390173 | R12: =L12 -> 390173
A13: 9 | B13: Nguyễn Chí Nhân | C13: 3.99 | D13: 0.45 | F13: =C13*E13 -> 0 | G13: 0.13 | H13: =(C13+D13+F13)*G13 -> 0.5772 | I13: =(C13+D13+F13+H13)*$R$1 -> 6973908 | J13: =((C13+D13)*$R$1)*6 -> 37029600 | K13: =J13+I13 -> 44003508 | L13: =K13*1% -> 440035.08 | R13: =L13 -> 440035.08
A14: 10 | B14: Lê Quang Liêm | C14: 4.65 | D14: 0.45 | F14: =C14*E14 -> 0 | G14: 0.17 | H14: =(C14+D14+F14)*G14 -> 0.867 | I14: =(C14+D14+F14+H14)*$R$1 -> 8294130 | J14: =((C14+D14)*$R$1)*6 -> 42534000 | K14: =J14+I14 -> 50828130 | L14: =K14*1% -> 508281.3 | R14: =L14 -> 508281.3
A15: 11 | B15: Võ Thị Xuân Thơ | C15: 3.99 | F15: =C15*E15 -> 0 | I15: =(C15+D15+F15+H15)*$R$1 -> 5546100 | J15: =((C15+D15)*$R$1)*6 -> 33276600 | K15: =J15+I15 -> 38822700 | L15: =K15*1% -> 388227 | R15: =L15 -> 388227
A16: 12 | B16: Phạm Hữu Tấn | C16: 2.67 | F16: =C16*E16 -> 0 | I16: =(C16+D16+F16+H16)*$R$1 -> 3711300 | J16: =((C16+D16)*$R$1)*6 -> 22267800 | K16: =J16+I16 -> 25979100 | L16: =K16*1% -> 259791 | R16: =L16 -> 259791
A17: 13 | B17: Nguyễn Ngọc Trang | C17: 5.42 | D17: 0.45 | F17: =C17*E17 -> 0 | G17: 0.26 | H17: =(C17+D17+F17)*G17 -> 1.5262 | I17: =(C17+D17+F17+H17)*$R$1 -> 10280718 | J17: =((C17+D17)*$R$1)*6 -> 48955800 | K17: =J17+I17 -> 59236518 | L17: =K17*1% -> 592365.18 | R17: =L17 -> 592365.18
A18: 14 | B18: Trương Thị Hồng | C18: 2.67 | F18: =C18*E18 -> 0 | H18: =(C18+D18+F18)*G18 -> 0 | I18: =(C18+D18+F18+H18)*$R$1 -> 3711300 | J18: =((C18+D18)*$R$1)*6 -> 22267800 | K18: =J18+I18 -> 25979100 | L18: =K18*1% -> 259791 | R18: =L18 -> 259791
A19: 15 | B19: Nguyễn Yến Nhi | C19: 3 | F19: =C19*E19 -> 0 | H19: =(C19+D19+F19)*G19 -> 0 | I19: =(C19+D19+F19+H19)*$R$1 -> 4170000 | J19: =((C19+D19)*$R$1)*6 -> 25020000 | K19: =J19+I19 -> 29190000 | L19: =K19*1% -> 291900 | R19: =L19 -> 291900
A20: 16 | B20: Lưu Hoàng Hải Yến | C20: 2.67 | F20: =C20*E20 -> 0 | I20: =(C20+D20+F20+H20)*$R$1 -> 3711300 | J20: =((C20+D20)*$R$1)*6 -> 22267800 | K20: =J20+I20 -> 25979100 | L20: =K20*1% -> 259791 | R20: =L20 -> 259791
A21: 17 | B21: Trần Quốc Định | C21: 2.41 | F21: =C21*E21 -> 0 | I21: =(C21+D21+F21+H21)*$R$1 -> 3349900 | J21: =((C21+D21)*$R$1)*6 -> 20099400 | K21: =J21+I21 -> 23449300 | L21: =K21*1% -> 234493 | R21: =L21 -> 234493
A22: 18 | B22: Lương Xuân Thịnh | C22: 1.989 | F22: =C22*E22 -> 0 | I22: =(C22+D22+F22+H22)*$R$1 -> 2764710 | J22: =C22*R1 -> 2764710 | K22: =J22+I22 -> 5529420 | L22: =K22*1% -> 55294.2 | R22: =L22 -> 55294.2
A23: 19 | B23: Nguyễn Thành Nam | C23: 3.99 | D23: 0.35 | F23: =C23*E23 -> 0 | H23: 0.6076 | I23: =(C23+D23+F23+H23)*$R$1 -> 6877164 | J23: =(C23+D23)*R1 -> 6032600 | K23: =J23+I23 -> 12909764 | L23: =K23*1% -> 129097.64 | R23: =L23 -> 129097.64
A24: 20 | B24: Thái Thị My Sa | C24: 2.67 | F24: =C24*E24 -> 0 | I24: =(C24+D24+F24+H24)*$R$1 -> 3711300 | K24: =J24+I24 -> 3711300 | L24: =K24*0.005 -> 18556.5 | R24: =L24+L25 -> 55669.5
J25: 3711300 | K25: =J25+I25 -> 3711300 | L25: =K25*1% -> 37113
A26: TỔNG CỘNG: | J26: =SUM(J5:J24) -> 597434510 | K26: =SUM(K5:K24) -> 7.2037789e+08 | L26: =SUM(L5:L24) -> 7185222.4 | M26: =SUM(M5:M24) -> 0 | N26: =SUM(N5:N24) -> 0 | O26: =SUM(O5:O24) -> 0 | P26: =SUM(P5:P24) -> 0 | Q26: =SUM(Q5:Q24) -> 0 | R26: =SUM(R5:R24) -> 7222335.4
B27: Ghi chú: Đảng viên Thái Thị My Sa, nghỉ chế độ thai sản từ 1/2/2019 - 1/8/2019 (Đóng 5%)
A28: - Chi bộ trích lại 30% tiền thu đảng phí: | D28: =R26*30% -> 2166700.6
A29: - Chi bộ nộp lên đảng bộ trường 70%: | D29: =R26*70% -> 5055634.8
A31: NGƯỜI LẬP BÁO CÁO | L31: T/M CHI BỘ
L32: BÍ THƯ
A38: Nguyễn Thị Hoa | K38: Lâm Viết Dũng

Sheet THANG 8
A1: ĐẢNG BỘ TRƯỜNG CAO ĐẲNG LÝ TỰ TRỌNG THÀNH PHỐ HỒ CHÍ MINH CHI BỘ 2 * | G1: CỘNG HÒA XÃ HỘI CHỦ NGHĨA VIỆT NAM Độc lập - Tự do - Hạnh phúc | S1: 1490000 | T1: Thi đua T7 | U1: 1,2
A2: BẢNG TỔNG HỢP Các khoản thu nhập dùng để tính đóng đảng phí tháng 8/2019 và truy thu Tiền hiệu quả quý 2/2019
A3: TT | B3: Họ tên | C3: HS lương | D3: PC CV | E3: PC VK | G3: Phụ cấp TNNG | I3: Tổng lương | J3: Thi đua T7/2019 | K3: Truy thu hiệu quả quý 2/2019 | L3: Tổng số tiền tính đảng phí | M3: Đảng phí 1% | N3: Truy thu | S3: Số tiền nộp
A4: 1 | B4: 2 | C4: 3 | D4: 4 | E4: 5 | F4: 6=3*5 | G4: 7 | H4: 8=(3+4+6)*7 | I4: 9 | J4: 10 | K4: 11 | L4: 12=9+10+11 | M4: 13=11*1% | S4: 13
A5: 1 | B5: Phạm Hữu Lộc | C5: 4.98 | D5: 0.9 | E5: 0.09 | F5: =C5*E5 -> 0.4482 | G5: 0.32 | H5: =(C5+D5+F5)*G5 -> 2.025024 | I5: =(C5+D5+F5+H5)*$S$1 -> 12446304 | J5: 9523308 | K5: 31666313 | L5: =SUM(I5:K5) -> 53635925 | M5: =L5*1% -> 536359.25 | S5: =M5 -> 536359.25
A6: 2 | B6: Lâm Viết Dũng | C6: 4.65 | D6: 0.45 | F6: =C6*E6 -> 0 | G6: 0.16 | H6: =(C6+D6+F6)*G6 -> 0.816 | I6: =(C6+D6+F6+H6)*$S$1 -> 8814840 | J6: 7674990 | K6: 25520400 | L6: =SUM(I6:K6) -> 42010230 | M6: =L6*1% -> 420102.3 | S6: =M6 -> 420102.3
A7: 3 | B7: Nguyễn Thị Hoa | C7: 4.65 | D7: 0.35 | F7: =C7*E7 -> 0 | I7: =(C7+D7+F7+H7)*$S$1 -> 7450000 | J7: 6552761 | K7: 25020000 | L7: =SUM(I7:K7) -> 39022761 | M7: =L7*1% -> 390227.61 | S7: =M7 -> 390227.61
A8: 4 | B8: Nguyễn Văn Chì | C8: 3 | F8: =C8*E8 -> 0 | I8: =(C8+D8+F8+H8)*$S$1 -> 4470000 | J8: 4320352 | K8: 14765900 | L8: =SUM(I8:K8) -> 23556252 | M8: =L8*1% -> 235562.52 | S8: =M8 -> 235562.52
A9: 5 | B9: Nguyễn Thanh Lâm | C9: 4.98 | D9: 0.45 | E9: 0.11 | F9: =C9*E9 -> 0.5478 | G9: 0.16 | H9: =(C9+D9+F9)*G9 -> 0.956448 | I9: =(C9+D9+F9+H9)*$S$1 -> 10332030 | J9: 8995991 | K9: 29912911 | L9: =SUM(I9:K9) -> 49240932 | M9: =L9*1% -> 492409.32 | S9: =M9 -> 492409.32
A10: 6 | B10: Nguyễn Văn Chiến | C10: 3.66 | D10: 0.35 | F10: =C10*E10 -> 0 | I10: =(C10+D10+F10+H10)*$S$1 -> 5974900 | J10: 6185139 | K10: 20066040 | L10: =SUM(I10:K10) -> 32226079 | M10: =L10*1% -> 322260.79 | S10: =M10 -> 322260.79
A11: 7 | B11: Nguyễn Văn Tấn | C11: 4.98 | D11: 0.35 | E11: 0.1 | F11: =C11*E11 -> 0.498 | I11: =(C11+D11+F11+H11)*$S$1 -> 8683720 | J11: 8770557 | K11: 29163312 | L11: =SUM(I11:K11) -> 46617589 | M11: =L11*1% -> 466175.89 | S11: =M11 -> 466175.89
A12: 8 | B12: Nguyễn T Kim Dung | C12: 3.66 | D12: 0.35 | F12: =C12*E12 -> 0 | I12: =(C12+D12+F12+H12)*$S$1 -> 5974900 | J12: 6034649 | K12: 20066040 | L12: =SUM(I12:K12) -> 32075589 | M12: =L12*1% -> 320755.89 | S12: =M12 -> 320755.89
A13: 9 | B13: Nguyễn Chí Nhân | C13: 3.99 | D13: 0.45 | F13: =C13*E13 -> 0 | G13: 0.13 | H13: =(C13+D13+F13)*G13 -> 0.5772 | I13: =(C13+D13+F13+H13)*$S$1 -> 7475628 | J13: 6681756 | K13: 22217760 | L13: =SUM(I13:K13) -> 36375144 | M13: =L13*1% -> 363751.44 | S13: =M13 -> 363751.44
A14: 10 | B14: Lê Quang Liêm | C14: 4.65 | D14: 0.45 | F14: =C14*E14 -> 0 | G14: 0.17 | H14: =(C14+D14+F14)*G14 -> 0.867 | I14: =(C14+D14+F14+H14)*$S$1 -> 8890830 | J14: 7674990 | K14: 25520400 | L14: =SUM(I14:K14) -> 42086220 | M14: =L14*1% -> 420862.2 | S14: =M14 -> 420862.2
A15: 11 | B15: Võ Thị Xuân Thơ | C15: 3.99 | F15: =C15*E15 -> 0 | I15: =(C15+D15+F15+H15)*$S$1 -> 5945100 | J15: 6004551 | K15: 19965960 | L15: =SUM(I15:K15) -> 31915611 | M15: =L15*1% -> 319156.11 | S15: =M15 -> 319156.11
A16: 12 | B16: Phạm Hữu Tấn | C16: 1.5 | F16: =C16*E16 -> 0 | I16: =(C16+D16+F16+H16)*$S$1 -> 2235000 | J16: 2257350 | L16: =SUM(I16:K16) -> 4492350 | M16: =L16*1% -> 44923.5 | S16: =M16 -> 44923.5
A17: 13 | B17: Nguyễn Ngọc Trang | C17: 5.42 | D17: 0.45 | F17: =C17*E17 -> 0 | G17: 0.26 | H17: =(C17+D17+F17)*G17 -> 1.5262 | I17: =(C17+D17+F17+H17)*$S$1 -> 11020338 | J17: 8453489 | K17: 29373480 | L17: =SUM(I17:K17) -> 48847307 | M17: =L17*1% -> 488473.07 | S17: =M17 -> 488473.07
A18: 14 | B18: Trương Thị Hồng | C18: 2.67 | F18: =C18*E18 -> 0 | H18: =(C18+D18+F18)*G18 -> 0 | I18: =(C18+D18+F18+H18)*$S$1 -> 3978300 | J18: 2986672 | L18: =SUM(I18:K18) -> 6964972 | M18: =L18*1% -> 69649.72 | S18: =M18 -> 69649.72
A19: 15 | B19: Nguyễn Yến Nhi | C19: 3 | F19: =C19*E19 -> 0 | H19: =(C19+D19+F19)*G19 -> 0 | I19: =(C19+D19+F19+H19)*$S$1 -> 4470000 | J19: 4183589 | L19: =SUM(I19:K19) -> 8653589 | M19: =L19*1% -> 86535.89 | S19: =M19 -> 86535.89
A20: 16 | B20: Lưu Hoàng Hải Yến | C20: 2.67 | F20: =C20*E20 -> 0 | I20: =(C20+D20+F20+H20)*$S$1 -> 3978300 | J20: 4018083 | K20: 13360680 | L20: =SUM(I20:K20) -> 21357063 | M20: =L20*1% -> 213570.63 | S20: =M20 -> 213570.63
A21: 17 | B21: Trần Quốc Định | C21: 2.41 | F21: =C21*E21 -> 0 | I21: =(C21+D21+F21+H21)*$S$1 -> 3590900 | J21: 3227820 | L21: =SUM(I21:K21) -> 6818720 | M21: =L21*1% -> 68187.2 | S21: =M21 -> 68187.2
A22: 18 | B22: Lương Xuân Thịnh | C22: 1.989 | F22: =C22*E22 -> 0 | I22: =(C22+D22+F22+H22)*$S$1 -> 2963610 | J22: 2993246 | L22: =SUM(I22:K22) -> 5956856 | M22: =L22*1% -> 59568.56 | S22: =M22 -> 59568.56
A23: 19 | B23: Nguyễn Thành Nam | C23: 3.99 | D23: 0.35 | F23: =C23*E23 -> 0 | H23: 0.6076 | I23: =(C23+D23+F23+H23)*$S$1 -> 7371924 | J23: 6531266 | K23: 21717360 | L23: =SUM(I23:K23) -> 35620550 | M23: =L23*1% -> 356205.5 | S23: =M23 -> 356205.5
A24: 20 | B24: Thái Thị My Sa | C24: 2.67 | F24: =C24*E24 -> 0 | I24: =(C24+D24+F24+H24)*$S$1 -> 3978300 | L24: =SUM(I24:K24) -> 3978300 | M24: =L24*0.005 -> 19891.5 | S24: =M24 -> 19891.5
A25: TỔNG CỘNG: | J25: =SUM(J5:J24) -> 113070559 | M25: =SUM(M5:M24) -> 5694628.9 | N25: =SUM(N5:N24) -> 0 | O25: =SUM(O5:O24) -> 0 | P25: =SUM(P5:P24) -> 0 | Q25: =SUM(Q5:Q24) -> 0 | R25: =SUM(R5:R24) -> 0 | S25: =SUM(S5:S24) -> 5694628.9
B26: Ghi chú: Đảng viên Thái Thị My Sa, nghỉ chế độ thai sản từ 1/2/2019 - 1/8/2019 (Đóng 5%)
A27: - Chi bộ trích lại 30% tiền thu đảng phí: | D27: =S25*30% -> 1708388.7
A28: - Chi bộ nộp lên đảng bộ trường 70%: | D28: =S25*70% -> 3986240.2
A30: NGƯỜI LẬP BÁO CÁO | M30: T/M CHI BỘ
M31: BÍ THƯ
A37: Nguyễn Thị Hoa | L37: Lâm Viết Dũng

Sheet THANG 9
A1: ĐẢNG BỘ TRƯỜNG CAO ĐẲNG LÝ TỰ TRỌNG THÀNH PHỐ HỒ CHÍ MINH CHI BỘ 2 * | G1: CỘNG HÒA XÃ HỘI CHỦ NGHĨA VIỆT NAM Độc lập - Tự do - Hạnh phúc | R1: 1490000 | S1: Thi đua T7 | T1: 1,2
A2: BẢNG TỔNG HỢP Các khoản thu nhập dùng để tính đóng đảng phí tháng 9/2019
A3: TT | B3: Họ tên | C3: HS lương | D3: PC CV | E3: PC VK | G3: Phụ cấp TNNG | I3: Tổng lương | J3: Thi đua T8/2019 | K3: Tổng số tiền tính đảng phí | L3: Đảng phí 1% | M3: Truy thu | R3: Số tiền nộp
A4: 1 | B4: 2 | C4: 3 | D4: 4 | E4: 5 | F4: 6=3*5 | G4: 7 | H4: 8=(3+4+6)*7 | I4: 9 | J4: 10 | K4: 11=9+10 | L4: 12=11*1% | R4: 13
A5: 1 | B5: Phạm Hữu Lộc | C5: 4.98 | D5: 0.9 | E5: 0.09 | F5: =C5*E5 -> 0.4482 | G5: 0.32 | H5: =(C5+D5+F5)*G5 -> 2.025024 | I5: =(C5+D5+F5+H5)*$R$1 -> 12446304 | J5: 9523308 | K5: =SUM(I5:J5) -> 21969612 | L5: =K5*1% -> 219696.12 | R5: =L5 -> 219696.12 | S5: =C5+D5+F5+H5 -> 8.353224
A6: 2 | B6: Lâm Viết Dũng | C6: 4.65 | D6: 0.45 | F6: =C6*E6 -> 0 | G6: 0.16 | H6: =(C6+D6+F6)*G6 -> 0.816 | I6: =(C6+D6+F6+H6)*$R$1 -> 8814840 | J6: 7674990 | K6: =SUM(I6:J6) -> 16489830 | L6: =K6*1% -> 164898.3 | R6: =L6 -> 164898.3 | S6: =C6+D6+F6+H6 -> 5.916
A7: 3 | B7: Nguyễn Thị Hoa | C7: 4.65 | D7: 0.35 | F7: =C7*E7 -> 0 | I7: =(C7+D7+F7+H7)*$R$1 -> 7450000 | J7: 6552761 | K7: =SUM(I7:J7) -> 14002761 | L7: =K7*1% -> 140027.61 | R7: =L7 -> 140027.61 | S7: =C7+D7+F7+H7 -> 5
A8: 4 | B8: Nguyễn Văn Chì | C8: 3 | F8: =C8*E8 -> 0 | I8: =(C8+D8+F8+H8)*$R$1 -> 4470000 | J8: 4320352 | K8: =SUM(I8:J8) -> 8790352 | L8: =K8*1% -> 87903.52 | R8: =L8 -> 87903.52 | S8: =C8+D8+F8+H8 -> 3
A9: 5 | B9: Nguyễn Thanh Lâm | C9: 4.98 | D9: 0.45 | E9: 0.11 | F9: =C9*E9 -> 0.5478 | G9: 0.16 | H9: =(C9+D9+F9)*G9 -> 0.956448 | I9: =(C9+D9+F9+H9)*$R$1 -> 10332030 | J9: 8995991 | K9: =SUM(I9:J9) -> 19328021 | L9: =K9*1% -> 193280.21 | R9: =L9 -> 193280.21 | S9: =C9+D9+F9+H9 -> 6.934248
A10: 6 | B10: Nguyễn Văn Chiến | C10: 3.66 | D10: 0.35 | F10: =C10*E10 -> 0 | I10: =(C10+D10+F10+H10)*$R$1 -> 5974900 | J10: 6185139 | K10: =SUM(I10:J10) -> 12160039 | L10: =K10*1% -> 121600.39 | R10: =L10 -> 121600.39 | S10: =C10+D10+F10+H10 -> 4.01
A11: 7 | B11: Nguyễn Văn Tấn | C11: 4.98 | D11: 0.35 | E11: 0.1 | F11: =C11*E11 -> 0.498 | I11: =(C11+D11+F11+H11)*$R$1 -> 8683720 | J11: 8770557 | K11: =SUM(I11:J11) -> 17454277 | L11: =K11*1% -> 174542.77 | R11: =L11 -> 174542.77 | S11: =C11+D11+F11+H11 -> 5.828
A12: 8 | B12: Nguyễn T Kim Dung | C12: 3.66 | D12: 0.35 | F12: =C12*E12 -> 0 | I12: =(C12+D12+F12+H12)*$R$1 -> 5974900 | J12: 6034649 | K12: =SUM(I12:J12) -> 12009549 | L12: =K12*1% -> 120095.49 | R12: =L12 -> 120095.49 | S12: =C12+D12+F12+H12 -> 4.01
A13: 9 | B13: Nguyễn Chí Nhân | C13: 3.99 | D13: 0.45 | F13: =C13*E13 -> 0 | G13: 0.13 | H13: =(C13+D13+F13)*G13 -> 0.5772 | I13: =(C13+D13+F13+H13)*$R$1 -> 7475628 | J13: 6681756 | K13: =SUM(I13:J13) -> 14157384 | L13: =K13*1% -> 141573.84 | R13: =L13 -> 141573.84 | S13: =C13+D13+F13+H13 -> 5.0172
A14: 10 | B14: Lê Quang Liêm | C14: 4.65 | D14: 0.45 | F14: =C14*E14 -> 0 | G14: 0.17 | H14: =(C14+D14+F14)*G14 -> 0.867 | I14: =(C14+D14+F14+H14)*$R$1 -> 8890830 | J14: 7674990 | K14: =SUM(I14:J14) -> 16565820 | L14: =K14*1% -> 165658.2 | R14: =L14 -> 165658.2 | S14: =C14+D14+F14+H14 -> 5.967
A15: 11 | B15: Võ Thị Xuân Thơ | C15: 3.99 | F15: =C15*E15 -> 0 | I15: =(C15+D15+F15+H15)*$R$1 -> 5945100 | J15: 6004551 | K15: =SUM(I15:J15) -> 11949651 | L15: =K15*1% -> 119496.51 | R15: =L15 -> 119496.51 | S15: =C15+D15+F15+H15 -> 3.99
A16: 12 | B16: Phạm Hữu Tấn | C16: 1.5 | F16: =C16*E16 -> 0 | I16: =(C16+D16+F16+H16)*$R$1 -> 2235000 | J16: 2257350 | K16: =SUM(I16:J16) -> 4492350 | L16: =K16*1% -> 44923.5 | R16: =L16 -> 44923.5 | S16: =C16+D16+F16+H16 -> 1.5
A17: 13 | B17: Nguyễn Ngọc Trang | C17: 5.42 | D17: 0.45 | F17: =C17*E17 -> 0 | G17: 0.26 | H17: =(C17+D17+F17)*G17 -> 1.5262 | I17: =(C17+D17+F17+H17)*$R$1 -> 11020338 | J17: 8453489 | K17: =SUM(I17:J17) -> 19473827 | L17: =K17*1% -> 194738.27 | R17: =L17 -> 194738.27 | S17: =C17+D17+F17+H17 -> 7.3962
A18: 14 | B18: Trương Thị Hồng | C18: 2.67 | F18: =C18*E18 -> 0 | H18: =(C18+D18+F18)*G18 -> 0 | I18: =(C18+D18+F18+H18)*$R$1 -> 3978300 | J18: 2986672 | K18: =SUM(I18:J18) -> 6964972 | L18: =K18*1% -> 69649.72 | R18: =L18 -> 69649.72 | S18: =C18+D18+F18+H18 -> 2.67
A19: 15 | B19: Nguyễn Yến Nhi | C19: 3 | F19: =C19*E19 -> 0 | H19: =(C19+D19+F19)*G19 -> 0 | I19: =(C19+D19+F19+H19)*$R$1 -> 4470000 | J19: 4183589 | K19: =SUM(I19:J19) -> 8653589 | L19: =K19*1% -> 86535.89 | R19: =L19 -> 86535.89 | S19: =C19+D19+F19+H19 -> 3
A20: 16 | B20: Lưu Hoàng Hải Yến | C20: 2.67 | F20: =C20*E20 -> 0 | I20: =(C20+D20+F20+H20)*$R$1 -> 3978300 | J20: 4018083 | K20: =SUM(I20:J20) -> 7996383 | L20: =K20*1% -> 79963.83 | R20: =L20 -> 79963.83 | S20: =C20+D20+F20+H20 -> 2.67
A21: 17 | B21: Trần Quốc Định | C21: 2.41 | F21: =C21*E21 -> 0 | I21: =(C21+D21+F21+H21)*$R$1 -> 3590900 | J21: 3227820 | K21: =SUM(I21:J21) -> 6818720 | L21: =K21*1% -> 68187.2 | R21: =L21 -> 68187.2 | S21: =C21+D21+F21+H21 -> 2.41
A22: 18 | B22: Lương Xuân Thịnh | C22: 1.989 | F22: =C22*E22 -> 0 | I22: =(C22+D22+F22+H22)*$R$1 -> 2963610 | J22: 2993246 | K22: =SUM(I22:J22) -> 5956856 | L22: =K22*1% -> 59568.56 | R22: =L22 -> 59568.56 | S22: =C22+D22+F22+H22 -> 1.989
A23: 19 | B23: Nguyễn Thành Nam | C23: 3.99 | D23: 0.35 | F23: =C23*E23 -> 0 | H23: 0.6076 | I23: =(C23+D23+F23+H23)*$R$1 -> 7371924 | J23: 6531266 | K23: =SUM(I23:J23) -> 13903190 | L23: =K23*1% -> 139031.9 | R23: =L23 -> 139031.9 | S23: =C23+D23+F23+H23 -> 4.9476
A24: 20 | B24: Thái Thị My Sa | C24: 2.67 | F24: =C24*E24 -> 0 | I24: =(C24+D24+F24+H24)*$R$1 -> 3978300 | K24: =SUM(I24:J24) -> 3978300 | L24: =K24*1% -> 39783 | R24: =L24 -> 39783 | S24: =C24+D24+F24+H24 -> 2.67
A25: TỔNG CỘNG: | J25: =SUM(J5:J24) -> 113070559 | L25: =SUM(L5:L24) -> 2431154.8 | M25: =SUM(M5:M24) -> 0 | N25: =SUM(N5:N24) -> 0 | O25: =SUM(O5:O24) -> 0 | P25: =SUM(P5:P24) -> 0 | Q25: =SUM(Q5:Q24) -> 0 | R25: =SUM(R5:R24) -> 2431154.8
B26: Ghi chú: Đảng viên Thái Thị My Sa, nghỉ chế độ thai sản từ 1/2/2019 - 1/8/2019 (Không có tiền thi đua tháng 8/2019)
A27: - Chi bộ trích lại 30% tiền thu đảng phí: | D27: =R25*30% -> 729346.45
A28: - Chi bộ nộp lên đảng bộ trường 70%: | D28: =R25*70% -> 1701808.4
A30: NGƯỜI LẬP BÁO CÁO | L30: T/M CHI BỘ
L31: BÍ THƯ
A37: Nguyễn Thị Hoa | K37: Lâm Viết Dũng

Sheet THANG 10
A1: ĐẢNG BỘ TRƯỜNG CAO ĐẲNG LÝ TỰ TRỌNG THÀNH PHỐ HỒ CHÍ MINH CHI BỘ 2 * | G1: CỘNG HÒA XÃ HỘI CHỦ NGHĨA VIỆT NAM Độc lập - Tự do - Hạnh phúc | R1: 1490000 | S1: Thi đua T7 | T1: 1,2
A2: BẢNG TỔNG HỢP Các khoản thu nhập dùng để tính đóng đảng phí tháng 10/2019
A3: TT | B3: Họ tên | C3: HS lương | D3: PC CV | E3: PC VK | G3: Phụ cấp TNNG | I3: Tổng lương | J3: Thi đua T9/2019 | K3: Tổng số tiền tính đảng phí | L3: Đảng phí 1% | M3: Truy thu | R3: Số tiền nộp
A4: 1 | B4: 2 | C4: 3 | D4: 4 | E4: 5 | F4: 6=3*5 | G4: 7 | H4: 8=(3+4+6)*7 | I4: 9 | J4: 10 | K4: 11=9+10 | L4: 12=11*1% | R4: 13
A5: 1 | B5: Phạm Hữu Lộc | C5: 4.98 | D5: 0.9 | E5: 0.09 | F5: =C5*E5 -> 0.4482 | G5: 0.32 | H5: =(C5+D5+F5)*G5 -> 2.025024 | I5: =(C5+D5+F5+H5)*$R$1 -> 12446304 | J5: 9523308 | K5: =SUM(I5:J5) -> 21969612 | L5: =K5*1% -> 219696.12 | R5: =L5 -> 219696.12 | S5: =C5+D5+F5+H5 -> 8.353224
A6: 2 | B6: Lâm Viết Dũng | C6: 4.65 | D6: 0.45 | F6: =C6*E6 -> 0 | G6: 0.16 | H6: =(C6+D6+F6)*G6 -> 0.816 | I6: =(C6+D6+F6+H6)*$R$1 -> 8814840 | J6: 7674990 | K6: =SUM(I6:J6) -> 16489830 | L6: =K6*1% -> 164898.3 | R6: =L6 -> 164898.3 | S6: =C6+D6+F6+H6 -> 5.916
A7: 3 | B7: Nguyễn Thị Hoa | C7: 4.65 | D7: 0.35 | F7: =C7*E7 -> 0 | I7: =(C7+D7+F7+H7)*$R$1 -> 7450000 | J7: 6552761 | K7: =SUM(I7:J7) -> 14002761 | L7: =K7*1% -> 140027.61 | R7: =L7 -> 140027.61 | S7: =C7+D7+F7+H7 -> 5
A8: 4 | B8: Nguyễn Văn Chì | C8: 3 | F8: =C8*E8 -> 0 | I8: =(C8+D8+F8+H8)*$R$1 -> 4470000 | J8: 4320352 | K8: =SUM(I8:J8) -> 8790352 | L8: =K8*1% -> 87903.52 | R8: =L8 -> 87903.52 | S8: =C8+D8+F8+H8 -> 3
A9: 5 | B9: Nguyễn Thanh Lâm | C9: 4.98 | D9: 0.45 | E9: 0.11 | F9: =C9*E9 -> 0.5478 | G9: 0.16 | H9: =(C9+D9+F9)*G9 -> 0.956448 | I9: =(C9+D9+F9+H9)*$R$1 -> 10332030 | J9: 8995991 | K9: =SUM(I9:J9) -> 19328021 | L9: =K9*1% -> 193280.21 | R9: =L9 -> 193280.21 | S9: =C9+D9+F9+H9 -> 6.934248
A10: 6 | B10: Nguyễn Văn Chiến | C10: 3.66 | D10: 0.35 | F10: =C10*E10 -> 0 | I10: =(C10+D10+F10+H10)*$R$1 -> 5974900 | J10: 6185139 | K10: =SUM(I10:J10) -> 12160039 | L10: =K10*1% -> 121600.39 | R10: =L10 -> 121600.39 | S10: =C10+D10+F10+H10 -> 4.01
A11: 7 | B11: Nguyễn Văn Tấn | C11: 4.98 | D11: 0.35 | E11: 0.1 | F11: =C11*E11 -> 0.498 | I11: =(C11+D11+F11+H11)*$R$1 -> 8683720 | J11: 8770557 | K11: =SUM(I11:J11) -> 17454277 | L11: =K11*1% -> 174542.77 | R11: =L11 -> 174542.77 | S11: =C11+D11+F11+H11 -> 5.828
A12: 8 | B12: Nguyễn T Kim Dung | C12: 3.66 | D12: 0.35 | F12: =C12*E12 -> 0 | I12: =(C12+D12+F12+H12)*$R$1 -> 5974900 | J12: 6034649 | K12: =SUM(I12:J12) -> 12009549 | L12: =K12*1% -> 120095.49 | R12: =L12 -> 120095.49 | S12: =C12+D12+F12+H12 -> 4.01
A13: 9 | B13: Nguyễn Chí Nhân | C13: 3.99 | D13: 0.45 | F13: =C13*E13 -> 0 | G13: 0.13 | H13: =(C13+D13+F13)*G13 -> 0.5772 | I13: =(C13+D13+F13+H13)*$R$1 -> 7475628 | J13: 6681756 | K13: =SUM(I13:J13) -> 14157384 | L13: =K13*1% -> 141573.84 | R13: =L13 -> 141573.84 | S13: =C13+D13+F13+H13 -> 5.0172
A14: 10 | B14: Lê Quang Liêm | C14: 4.65 | D14: 0.45 | F14: =C14*E14 -> 0 | G14: 0.17 | H14: =(C14+D14+F14)*G14 -> 0.867 | I14: =(C14+D14+F14+H14)*$R$1 -> 8890830 | J14: 7674990 | K14: =SUM(I14:J14) -> 16565820 | L14: =K14*1% -> 165658.2 | R14: =L14 -> 165658.2 | S14: =C14+D14+F14+H14 -> 5.967
A15: 11 | B15: Võ Thị Xuân Thơ | C15: 3.99 | F15: =C15*E15 -> 0 | I15: =(C15+D15+F15+H15)*$R$1 -> 5945100 | J15: 6004551 | K15: =SUM(I15:J15) -> 11949651 | L15: =K15*1% -> 119496.51 | R15: =L15 -> 119496.51 | S15: =C15+D15+F15+H15 -> 3.99
A16: 12 | B16: Phạm Hữu Tấn | C16: 1.5 | F16: =C16*E16 -> 0 | I16: =(C16+D16+F16+H16)*$R$1 -> 2235000 | J16: 2257350 | K16: =SUM(I16:J16) -> 4492350 | L16: =K16*1% -> 44923.5 | R16: =L16 -> 44923.5 | S16: =C16+D16+F16+H16 -> 1.5
A17: 13 | B17: Nguyễn Ngọc Trang | C17: 5.42 | D17: 0.45 | F17: =C17*E17 -> 0 | G17: 0.26 | H17: =(C17+D17+F17)*G17 -> 1.5262 | I17: =(C17+D17+F17+H17)*$R$1 -> 11020338 | J17: 8453489 | K17: =SUM(I17:J17) -> 19473827 | L17: =K17*1% -> 194738.27 | R17: =L17 -> 194738.27 | S17: =C17+D17+F17+H17 -> 7.3962
A18: 14 | B18: Trương Thị Hồng | C18: 2.67 | F18: =C18*E18 -> 0 | H18: =(C18+D18+F18)*G18 -> 0 | I18: =(C18+D18+F18+H18)*$R$1 -> 3978300 | J18: 2986672 | K18: =SUM(I18:J18) -> 6964972 | L18: =K18*1% -> 69649.72 | R18: =L18 -> 69649.72 | S18: =C18+D18+F18+H18 -> 2.67
A19: 15 | B19: Lưu Hoàng Hải Yến | C19: 2.67 | F19: =C19*E19 -> 0 | I19: =(C19+D19+F19+H19)*$R$1 -> 3978300 | J19: 4018083 | K19: =SUM(I19:J19) -> 7996383 | L19: =K19*1% -> 79963.83 | R19: =L19 -> 79963.83 | S19: =C19+D19+F19+H19 -> 2.67
A20: 16 | B20: Trần Quốc Định | C20: 2.41 | F20: =C20*E20 -> 0 | I20: =(C20+D20+F20+H20)*$R$1 -> 3590900 | J20: 3227820 | K20: =SUM(I20:J20) -> 6818720 | L20: =K20*1% -> 68187.2 | R20: =L20 -> 68187.2 | S20: =C20+D20+F20+H20 -> 2.41
A21: 17 | B21: Lương Xuân Thịnh | C21: 1.989 | F21: =C21*E21 -> 0 | I21: =(C21+D21+F21+H21)*$R$1 -> 2963610 | J21: 2993246 | K21: =SUM(I21:J21) -> 5956856 | L21: =K21*1% -> 59568.56 | R21: =L21 -> 59568.56 | S21: =C21+D21+F21+H21 -> 1.989
A22: 18 | B22: Nguyễn Thành Nam | C22: 3.99 | D22: 0.35 | F22: =C22*E22 -> 0 | H22: 0.6076 | I22: =(C22+D22+F22+H22)*$R$1 -> 7371924 | J22: 6531266 | K22: =SUM(I22:J22) -> 13903190 | L22: =K22*1% -> 139031.9 | R22: =L22 -> 139031.9 | S22: =C22+D22+F22+H22 -> 4.9476
A23: 19 | B23: Thái Thị My Sa | C23: 2.67 | F23: =C23*E23 -> 0 | I23: =(C23+D23+F23+H23)*$R$1 -> 3978300 | J23: 3978300 | K23: =SUM(I23:J23) -> 7956600 | L23: =K23*1% -> 79566 | R23: =L23 -> 79566 | S23: =C23+D23+F23+H23 -> 2.67
A24: TỔNG CỘNG: | J24: =SUM(J5:J23) -> 112865270 | L24: =SUM(L5:L23) -> 2384401.9 | M24: =SUM(M5:M23) -> 0 | N24: =SUM(N5:N23) -> 0 | O24: =SUM(O5:O23) -> 0 | P24: =SUM(P5:P23) -> 0 | Q24: =SUM(Q5:Q23) -> 0 | R24: =SUM(R5:R23) -> 2384401.9
A26: - Chi bộ trích lại 30% tiền thu đảng phí: | D26: =R24*30% -> 715320.58
A27: - Chi bộ nộp lên đảng bộ trường 70%: | D27: =R24*70% -> 1669081.4
A29: NGƯỜI LẬP BÁO CÁO | L29: T/M CHI BỘ
L30: BÍ THƯ
A36: Nguyễn Thị Hoa | K36: Lâm Viết Dũng

Sheet THANG 11
A1: ĐẢNG BỘ TRƯỜNG CAO ĐẲNG LÝ TỰ TRỌNG THÀNH PHỐ HỒ CHÍ MINH CHI BỘ 2 * | G1: CỘNG HÒA XÃ HỘI CHỦ NGHĨA VIỆT NAM Độc lập - Tự do - Hạnh phúc | S1: 1490000 | T1: Thi đua T7 | U1: 1,2
A2: BẢNG TỔNG HỢP Các khoản thu nhập dùng để tính đóng đảng phí tháng 10/2019
A3: TT | B3: Họ tên | C3: HS lương | D3: PC CV | E3: PC VK | G3: Phụ cấp TNNG | I3: Tổng lương | J3: Thi đua T9/2019 | L3: Tổng số tiền tính đảng phí | M3: Đảng phí 1% | N3: Truy thu | S3: Số tiền nộp
A4: 1 | B4: 2 | C4: 3 | D4: 4 | E4: 5 | F4: 6=3*5 | G4: 7 | H4: 8=(3+4+6)*7 | I4: 9 | J4: 10 | L4: 11=9+10 | M4: 12=11*1% | S4: 13
A5: 1 | B5: Phạm Hữu Lộc | C5: 4.98 | D5: 0.9 | E5: 0.1 | F5: =C5*E5 -> 0.498 | G5: 0.32 | H5: =(C5+D5+F5)*G5 -> 2.04096 | I5: =(C5+D5+F5+H5)*$S$1 -> 12544250 | J5: 9503220 | K5: 34122550 | L5: =SUM(I5:K5) -> 56170020 | M5: =L5*1% -> 561700.2 | S5: =M5 -> 561700.2 | T5: =C5+D5+F5+H5 -> 8.41896
A6: 2 | B6: Lâm Viết Dũng | C6: 4.65 | D6: 0.45 | F6: =C6*E6 -> 0 | G6: 0.18 | H6: =(C6+D6+F6)*G6 -> 0.918 | I6: =(C6+D6+F6+H6)*$S$1 -> 8966820 | J6: 7599000 | K6: 27356400 | L6: =SUM(I6:K6) -> 43922220 | M6: =L6*1% -> 439222.2 | S6: =M6 -> 439222.2 | T6: =C6+D6+F6+H6 -> 6.018
A7: 3 | B7: Nguyễn Thị Hoa | C7: 4.65 | D7: 0.35 | F7: =C7*E7 -> 0 | I7: =(C7+D7+F7+H7)*$S$1 -> 7450000 | J7: 7450000 | K7: 25994768 | L7: =SUM(I7:K7) -> 40894768 | M7: =L7*1% -> 408947.68 | S7: =M7 -> 408947.68 | T7: =C7+D7+F7+H7 -> 5
A8: 4 | B8: Nguyễn Văn Chì | C8: 3 | F8: =C8*E8 -> 0 | I8: =(C8+D8+F8+H8)*$S$1 -> 4470000 | J8: 4470000 | K8: 15101723 | L8: =SUM(I8:K8) -> 24041723 | M8: =L8*1% -> 240417.23 | S8: =M8 -> 240417.23 | T8: =C8+D8+F8+H8 -> 3
A9: 5 | B9: Nguyễn Thanh Lâm | C9: 4.98 | D9: 0.45 | E9: 0.11 | F9: =C9*E9 -> 0.5478 | G9: 0.17 | H9: =(C9+D9+F9)*G9 -> 1.016226 | I9: =(C9+D9+F9+H9)*$S$1 -> 10421099 | J9: 8906922 | K9: 32064919 | L9: =SUM(I9:K9) -> 51392940 | M9: =L9*1% -> 513929.4 | S9: =M9 -> 513929.4 | T9: =C9+D9+F9+H9 -> 6.994026
A10: 6 | B10: Nguyễn Văn Chiến | C10: 3.66 | D10: 0.35 | F10: =C10*E10 -> 0 | I10: =(C10+D10+F10+H10)*$S$1 -> 5974900 | J10: 5974900 | K10: 17207712 | L10: =SUM(I10:K10) -> 29157512 | M10: =L10*1% -> 291575.12 | S10: =M10 -> 291575.12 | T10: =C10+D10+F10+H10 -> 4.01
A11: 7 | B11: Nguyễn Văn Tấn | C11: 4.98 | D11: 0.35 | E11: 0.1 | F11: =C11*E11 -> 0.498 | I11: =(C11+D11+F11+H11)*$S$1 -> 8683720 | J11: 8683720 | K11: 25009114 | L11: =SUM(I11:K11) -> 42376554 | M11: =L11*1% -> 423765.54 | S11: =M11 -> 423765.54 | T11: =C11+D11+F11+H11 -> 5.828
A12: 8 | B12: Nguyễn T Kim Dung | C12: 3.66 | D12: 0.35 | F12: =C12*E12 -> 0 | I12: =(C12+D12+F12+H12)*$S$1 -> 5974900 | J12: 5974900 | K12: 17207712 | L12: =SUM(I12:K12) -> 29157512 | M12: =L12*1% -> 291575.12 | S12: =M12 -> 291575.12 | T12: =C12+D12+F12+H12 -> 4.01
A13: 9 | B13: Nguyễn Chí Nhân | C13: 3.99 | D13: 0.45 | F13: =C13*E13 -> 0 | G13: 0.15 | H13: =(C13+D13+F13)*G13 -> 0.666 | I13: =(C13+D13+F13+H13)*$S$1 -> 7607940 | J13: 6615600 | K13: 19052928 | L13: =SUM(I13:K13) -> 33276468 | M13: =L13*1% -> 332764.68 | S13: =M13 -> 332764.68 | T13: =C13+D13+F13+H13 -> 5.106
A14: 10 | B14: Lê Quang Liêm | C14: 4.65 | D14: 0.45 | F14: =C14*E14 -> 0 | G14: 0.19 | H14: =(C14+D14+F14)*G14 -> 0.969 | I14: =(C14+D14+F14+H14)*$S$1 -> 9042810 | J14: 7599000 | K14: 27356400 | L14: =SUM(I14:K14) -> 43998210 | M14: =L14*1% -> 439982.1 | S14: =M14 -> 439982.1 | T14: =C14+D14+F14+H14 -> 6.069
A15: 11 | B15: Võ Thị Xuân Thơ | C15: 3.99 | F15: =C15*E15 -> 0 | I15: =(C15+D15+F15+H15)*$S$1 -> 5945100 | J15: 5945100 | K15: 21402360 | L15: =SUM(I15:K15) -> 33292560 | M15: =L15*1% -> 332925.6 | S15: =M15 -> 332925.6 | T15: =C15+D15+F15+H15 -> 3.99
A16: 12 | B16: Phạm Hữu Tấn | C16: 1.5 | F16: =C16*E16 -> 0 | I16: =(C16+D16+F16+H16)*$S$1 -> 2235000 | J16: 2235000 | L16: =SUM(I16:K16) -> 4470000 | M16: =L16*1% -> 44700 | S16: =M16 -> 44700 | T16: =C16+D16+F16+H16 -> 1.5
A17: 13 | B17: Nguyễn Ngọc Trang | C17: 5.42 | D17: 0.45 | F17: =C17*E17 -> 0 | G17: 0.26 | H17: =(C17+D17+F17)*G17 -> 1.5262 | I17: =(C17+D17+F17+H17)*$S$1 -> 11020338 | J17: 8746300 | K17: 22864173 | L17: =SUM(I17:K17) -> 42630811 | M17: =L17*1% -> 426308.11 | S17: =M17 -> 426308.11 | T17: =C17+D17+F17+H17 -> 7.3962
A18: 14 | B18: Trương Thị Hồng | C18: 2.67 | F18: =C18*E18 -> 0 | H18: =(C18+D18+F18)*G18 -> 0 | I18: =(C18+D18+F18+H18)*$S$1 -> 3978300 | J18: 3978300 | L18: =SUM(I18:K18) -> 7956600 | M18: =L18*1% -> 79566 | S18: =M18 -> 79566 | T18: =C18+D18+F18+H18 -> 2.67
A19: 15 | B19: Lưu Hoàng Hải Yến | C19: 2.67 | F19: =C19*E19 -> 0 | I19: =(C19+D19+F19+H19)*$S$1 -> 3978300 | J19: 3978300 | K19: 11211915 | L19: =SUM(I19:K19) -> 19168515 | M19: =L19*1% -> 191685.15 | S19: =M19 -> 191685.15 | T19: =C19+D19+F19+H19 -> 2.67
A20: 16 | B20: Trần Quốc Định | C20: 2.41 | F20: =C20*E20 -> 0 | I20: =(C20+D20+F20+H20)*$S$1 -> 3590900 | J20: 3590900 | L20: =SUM(I20:K20) -> 7181800 | M20: =L20*1% -> 71818 | S20: =M20 -> 71818 | T20: =C20+D20+F20+H20 -> 2.41
A21: 17 | B21: Lương Xuân Thịnh | C21: 1.989 | F21: =C21*E21 -> 0 | I21: =(C21+D21+F21+H21)*$S$1 -> 2963610 | J21: 2963610 | K21: 10668996 | L21: =SUM(I21:K21) -> 16596216 | M21: =L21*1% -> 165962.16 | S21: =M21 -> 165962.16 | T21: =C21+D21+F21+H21 -> 1.989
A22: 18 | B22: Nguyễn Thành Nam | C22: 3.99 | D22: 0.35 | F22: =C22*E22 -> 0 | G22: 0.15 | H22: =(C22+D22+F22)*G22 -> 0.651 | I22: =(C22+D22+F22+H22)*$S$1 -> 7436590 | J22: 6466600 | K22: 18623808 | L22: =SUM(I22:K22) -> 32526998 | M22: =L22*1% -> 325269.98 | S22: =M22 -> 325269.98 | T22: =C22+D22+F22+H22 -> 4.991
A23: 19 | B23: Thái Thị My Sa | C23: 3 | F23: =C23*E23 -> 0 | I23: =(C23+D23+F23+H23)*$S$1 -> 4470000 | J23: 4470000 | K23: 4291200 | L23: =SUM(I23:K23) -> 13231200 | M23: =L23*1% -> 132312 | S23: =M23 -> 132312 | T23: =C23+D23+F23+H23 -> 3
